BEGIN:VCALENDAR
VERSION:2.0
PRODID:-//ChamberMaster//Event Calendar 2.0//EN
METHOD:PUBLISH
X-PUBLISHED-TTL:P3D
REFRESH-INTERVAL:P3D
CALSCALE:GREGORIAN
BEGIN:VEVENT
DTSTART:20210520T150000Z
DTEND:20210520T160000Z
X-MICROSOFT-CDO-ALLDAYEVENT:FALSE
SUMMARY:Ribbon Cutting at Slumberland Furniture
DESCRIPTION:Celebrate the opening of Slumberland Furniture in East Peoria's Levee District! Join us on Thursday\, May 20th at 10:00 AM at the new store at 340 W Washington St.\n\n\n\nSlumberland's 40 Winks Foundation will be partnering with local organizations to donate beds for children in need as part of their grand opening.
X-ALT-DESC;FMTTYPE=text/html:Celebrate the opening of Slumberland Furniture in East Peoria&#39\;s Levee District! Join us on Thursday\, May 20th at 10:00 AM at the new store at 340 W Washington St.<br />\n<br />\nSlumberland&#39\;s 40 Winks Foundation will be partnering with local organizations to donate beds for children in need as part of their grand opening.
LOCATION:
UID:e.526.6723
SEQUENCE:3
DTSTAMP:20260421T111813Z
URL:https://business.epcc.org/events/details/ribbon-cutting-at-slumberland-furniture-6723
END:VEVENT

END:VCALENDAR
