BEGIN:VCALENDAR
VERSION:2.0
PRODID:-//ChamberMaster//Event Calendar 2.0//EN
METHOD:PUBLISH
X-PUBLISHED-TTL:P3D
REFRESH-INTERVAL:P3D
CALSCALE:GREGORIAN
BEGIN:VEVENT
DTSTART:20190416T170000Z
DTEND:20190416T170000Z
X-MICROSOFT-CDO-ALLDAYEVENT:FALSE
SUMMARY:Ribbon Cutting at Sola Salon
DESCRIPTION:Please join us in welcoming Sola Salon Studios to East Peoria\, at a ribbon cutting.
X-ALT-DESC;FMTTYPE=text/html:Please join us in welcoming Sola Salon Studios to East Peoria\, at a ribbon cutting.
LOCATION:Sola Salon Studios 326 W. Washington St. East Peoria\, IL 61611
UID:e.526.6004
SEQUENCE:3
DTSTAMP:20260420T200435Z
URL:https://business.epcc.org/events/details/ribbon-cutting-at-sola-salon-6004
END:VEVENT

END:VCALENDAR
