BEGIN:VCALENDAR
VERSION:2.0
PRODID:-//ChamberMaster//Event Calendar 2.0//EN
METHOD:PUBLISH
X-PUBLISHED-TTL:P3D
REFRESH-INTERVAL:P3D
CALSCALE:GREGORIAN
BEGIN:VEVENT
DTSTART:20181210T220000Z
DTEND:20181211T020000Z
X-MICROSOFT-CDO-ALLDAYEVENT:FALSE
SUMMARY:Richland Community Center Stuff the Stocking
DESCRIPTION:We are collecting items for our annual Stuff the Stocking Picture Day with Santa at the Richland Community Center in East Peoria. All ages will come get their picture with Santa and receive a stocking. Cookies and juice will be served.\n\n\n\nWe are in need of boy & girl items for ages 8 and up. Anything from lotions\, body spray\, Axe for boys\, fingernail polish\, lipstick\, $5 gift cards or anything you see fit for a stocking!
X-ALT-DESC;FMTTYPE=text/html:We are collecting items for our annual Stuff the Stocking Picture Day with Santa at the Richland Community Center in East Peoria. All ages will come get their picture with Santa and receive a stocking. Cookies and juice will be served.<br />\n<br />\nWe are in need of boy &amp\; girl items for ages 8 and up. Anything from lotions\, body spray\, Axe for boys\, fingernail polish\, lipstick\, $5 gift cards or anything you see fit for a stocking!
LOCATION:Richland Community Center 446 Cass Street East Peoria\, IL
UID:e.526.5893
SEQUENCE:3
DTSTAMP:20260421T022352Z
URL:https://business.epcc.org/events/details/richland-community-center-stuff-the-stocking-5893
END:VEVENT

END:VCALENDAR
