BEGIN:VCALENDAR
VERSION:2.0
PRODID:-//ChamberMaster//Event Calendar 2.0//EN
METHOD:PUBLISH
X-PUBLISHED-TTL:P3D
REFRESH-INTERVAL:P3D
CALSCALE:GREGORIAN
BEGIN:VEVENT
DTSTART:20180804T140000Z
DTEND:20180804T180000Z
X-MICROSOFT-CDO-ALLDAYEVENT:FALSE
SUMMARY:RICHLAND NEIGHBORHOOD COMMUNITY IMPROVEMENT & RECYCLING DAY
DESCRIPTION:Richland Neighborhood \n\nCommunity Improvement & Recycling Day\n\n\n\nFREE Electronics & Tire Recycling for Richland Neighborhood Residents  (Residents will be asked to provide identification showing a valid Richland address)\n\n\n\nVolunteers Needed!\n\nTo Volunteer or For More Information: \n\nContact Belinda Young at 309/657-7813 or byoung@southsideofficeofconcern.org
X-ALT-DESC;FMTTYPE=text/html:<span style="font-size:20px"><span style="color:#00A131"><span style="font-family:cooper black">Richland Neighborhood&nbsp\;<br />\nCommunity Improvement &amp\; Recycling Day</span></span></span><br />\n<br />\n<span style="font-size:24px"><span style="font-size:18px"><span style="color:#0070C0"><span style="font-family:cooper black">FREE</span></span><span style="color:#01772E"><span style="font-family:cooper black">&nbsp\;Electronics &amp\; Tire&nbsp\;</span></span><span style="color:#6F6F6F"><span style="font-family:cooper black">Recycling for </span></span><span style="color:#6F6F6F"><span style="font-family:cooper black">Richland Neighborhood R</span></span></span><span style="color:#6F6F6F"><span style="font-family:cooper black"><span style="font-size:18px">esidents&nbsp\; <span style="font-size:14px"><span style="font-family:arial\,helvetica\,sans-serif">(Residents will be asked to provide identification showing a valid Richland address)</span></span></span></span></span></span><br />\n<br />\n<span style="font-size:24px"><span style="font-size:22px"><span style="color:#0070C0"><span style="font-family:cooper black">Volunteers Needed!</span></span></span></span><br />\n<span style="font-size:14px"><strong><span style="color:#01772E"><span style="font-family:arial">To Volunteer or For More Information:</span></span></strong>&nbsp\;<br />\n<span style="font-family:arial\,helvetica\,sans-serif">Contact Belinda Young at 309/657-7813 or <a href="mailto:byoung@southsideofficeofconcern.org?subject=Richland%20Community%20Improvement%20Day">byoung@southsideofficeofconcern.org</a></span></span>
LOCATION:Spinder Park Corner of Cass & State Streets\, East Peoria
UID:e.526.5565
SEQUENCE:3
DTSTAMP:20260421T070522Z
URL:https://business.epcc.org/events/details/richland-neighborhood-community-improvement-recycling-day-5565
END:VEVENT

END:VCALENDAR
