BEGIN:VCALENDAR
VERSION:2.0
PRODID:-//ChamberMaster//Event Calendar 2.0//EN
METHOD:PUBLISH
X-PUBLISHED-TTL:P3D
REFRESH-INTERVAL:P3D
CALSCALE:GREGORIAN
BEGIN:VEVENT
DTSTART;VALUE=DATE:20230406
DTEND;VALUE=DATE:20230407
TRANSP:TRANSPARENT
X-MICROSOFT-CDO-ALLDAYEVENT:TRUE
SUMMARY:Rise of Populism in Europe: The Impact of Globalization\, Covid and the War in Ukraine (Peoria Area World Affairs Council)
DESCRIPTION:
X-ALT-DESC;FMTTYPE=text/html:
LOCATION:
UID:e.526.7116
SEQUENCE:3
DTSTAMP:20260422T221928Z
URL:https://business.epcc.org/events/details/rise-of-populism-in-europe-the-impact-of-globalization-covid-and-the-war-in-ukraine-peoria-area-world-affairs-council-7116
END:VEVENT

END:VCALENDAR
