BEGIN:VCALENDAR
VERSION:2.0
PRODID:-//ChamberMaster//Event Calendar 2.0//EN
METHOD:PUBLISH
X-PUBLISHED-TTL:P3D
REFRESH-INTERVAL:P3D
CALSCALE:GREGORIAN
BEGIN:VEVENT
DTSTART:20190730T130000Z
DTEND:20190730T180000Z
X-MICROSOFT-CDO-ALLDAYEVENT:FALSE
SUMMARY:Risk Management: The Importance of Cybersecurity for Defense Manufacturing – Peoria
DESCRIPTION:Emphasis on current and future defense contractors and sub-contractors\n\nIdentifying the risks facing your company is the first step. How is your team prepared to address and resolve potential threats   for the security of your products\, customers and employees?\n\nBy attending this half day event\, manufacturing leaders   with a particular emphasis placed on current and future defense contractors and sub-contractors   will learn more about risk management considerations and how to integrate an effective cybersecurity approach and mitigate the risks of cyber threats.\n\nAttendees will also:\n\n\n	Learn how to identify and combat these risks from industry solutions specialists\n	Start developing their risk plan through a cyber security framework\n	Leave with action steps to help improve their risk management\n	Have to opportunity to sign-up for individual organization assessments and follow-on planning\n\n\nThe U.S. Department of Defense mandates specific risk controls   how are you implementing these in your operations?\n\nAGENDA\n\n\n	8:00am   Networking Breakfast & Check-in\n	8:30am   Opening: Representatives from local organizations\n	8:45am   Risks within Your Information Security Environment\n	9:15am   Cyber Security: What Are Your Risks? Identify   Protect   Detect   Respond   Recover\n	10:00am   Break\n	10:30am   Organizational Risk Identification: Table Top Exercise: Assess Company Risks and Identify Actions for Mitigation\n	11:30am   Start Defending Against Cyber Risks Today: Closing and Cybersecurity Consideration for Initial Implementation\n	12:00pm   Networking Lunch\n\n\nPresented in partnership by:\n\n\n	Greater Peoria Economic Development Council\n	Illinois Defense Network\n	Illinois PTAC at Bradley University\n	IMEC\n	Turner Center for Entrepreneurship\n\n\nCost: $50 per person.  Registration includes light breakfast\, lunch and training materials.\n\nContact Name: Emily Lee\, IMEC Program & Partner Relations Coordinator\n\nContact Phone: (309) 677-4633\n\nContact Email: elee@imec.org
X-ALT-DESC;FMTTYPE=text/html:<h3 style="margin: 0px 0px 10px\; font-weight: 600\; line-height: 1.3em\; overflow-wrap: break-word\; font-size: 24px\; color: rgb(136\, 136\, 136)\; font-family: &quot\;Open Sans&quot\;\;"><strong style="margin: 0px\; padding: 0px\; border: 0px\; vertical-align: baseline\; color: rgb(0\, 0\, 0)\;"><em style="margin: 0px\; padding: 0px\; border: 0px\; vertical-align: baseline\;">Emphasis on current and future defense contractors and sub-contractors</em></strong></h3>\n\n<p style="margin: 0px 0px 10px\; padding: 0px\; border: 0px\; vertical-align: baseline\; font-size: 16px\; overflow-wrap: break-word\; color: rgb(119\, 119\, 119)\; line-height: 1.7\; font-family: &quot\;Open Sans&quot\;\;">Identifying the risks facing your company is the first step. How is your team prepared to address and resolve potential threats &ndash\; for the security of your products\, customers and employees?</p>\n\n<p style="margin: 0px 0px 10px\; padding: 0px\; border: 0px\; vertical-align: baseline\; font-size: 16px\; overflow-wrap: break-word\; color: rgb(119\, 119\, 119)\; line-height: 1.7\; font-family: &quot\;Open Sans&quot\;\;">By attending this half day event\, manufacturing leaders &ndash\; with a particular emphasis placed on current and future defense contractors and sub-contractors &ndash\; will learn more about risk management considerations and how to integrate an effective cybersecurity approach and mitigate the risks of cyber threats.</p>\n\n<p style="margin: 0px 0px 10px\; padding: 0px\; border: 0px\; vertical-align: baseline\; font-size: 16px\; overflow-wrap: break-word\; color: rgb(119\, 119\, 119)\; line-height: 1.7\; font-family: &quot\;Open Sans&quot\;\;">Attendees will also:</p>\n\n<ul style="margin: 0px 0px 1em 1.5em\; padding-right: 0px\; padding-left: 0px\; border: 0px\; vertical-align: baseline\; font-size: 14px\; list-style-position: initial\; list-style-image: initial\; color: rgb(119\, 119\, 119)\; font-family: &quot\;Open Sans&quot\;\;">\n	<li style="margin: 0px 0px 0px 0.85em\; padding: 0px\; border: 0px\; vertical-align: baseline\; font-size: 16px\;">Learn how to identify and combat these risks from industry solutions specialists</li>\n	<li style="margin: 0px 0px 0px 0.85em\; padding: 0px\; border: 0px\; vertical-align: baseline\; font-size: 16px\;">Start developing their risk plan through a cyber security framework</li>\n	<li style="margin: 0px 0px 0px 0.85em\; padding: 0px\; border: 0px\; vertical-align: baseline\; font-size: 16px\;">Leave with action steps to help improve their risk management</li>\n	<li style="margin: 0px 0px 0px 0.85em\; padding: 0px\; border: 0px\; vertical-align: baseline\; font-size: 16px\;">Have to opportunity to sign-up for individual organization assessments and follow-on planning</li>\n</ul>\n\n<p style="margin: 0px 0px 10px\; padding: 0px\; border: 0px\; vertical-align: baseline\; font-size: 16px\; overflow-wrap: break-word\; color: rgb(119\, 119\, 119)\; line-height: 1.7\; font-family: &quot\;Open Sans&quot\;\;">The U.S. Department of Defense mandates specific risk controls &ndash\; how are you implementing these in your operations?</p>\n\n<p style="margin: 0px 0px 10px\; padding: 0px\; border: 0px\; vertical-align: baseline\; font-size: 16px\; overflow-wrap: break-word\; color: rgb(119\, 119\, 119)\; line-height: 1.7\; font-family: &quot\;Open Sans&quot\;\;"><b style="margin: 0px\; padding: 0px\; border: 0px\; vertical-align: baseline\;"><strong style="margin: 0px\; padding: 0px\; border: 0px\; vertical-align: baseline\; color: rgb(0\, 0\, 0)\;">AGENDA</strong></b></p>\n\n<ul style="margin: 0px 0px 1em 1.5em\; padding-right: 0px\; padding-left: 0px\; border: 0px\; vertical-align: baseline\; font-size: 14px\; list-style-position: initial\; list-style-image: initial\; color: rgb(119\, 119\, 119)\; font-family: &quot\;Open Sans&quot\;\;">\n	<li style="margin: 0px 0px 0px 0.85em\; padding: 0px\; border: 0px\; vertical-align: baseline\; font-size: 16px\;">8:00am &ndash\; Networking Breakfast &amp\; Check-in</li>\n	<li style="margin: 0px 0px 0px 0.85em\; padding: 0px\; border: 0px\; vertical-align: baseline\; font-size: 16px\;">8:30am&nbsp\;&ndash\;&nbsp\;Opening: Representatives from local organizations</li>\n	<li style="margin: 0px 0px 0px 0.85em\; padding: 0px\; border: 0px\; vertical-align: baseline\; font-size: 16px\;">8:45am &ndash\; Risks within Your Information Security Environment</li>\n	<li style="margin: 0px 0px 0px 0.85em\; padding: 0px\; border: 0px\; vertical-align: baseline\; font-size: 16px\;">9:15am&nbsp\;&ndash\; Cyber Security: What Are Your Risks?&nbsp\;Identify &ndash\; Protect &ndash\; Detect &ndash\; Respond &ndash\; Recover</li>\n	<li style="margin: 0px 0px 0px 0.85em\; padding: 0px\; border: 0px\; vertical-align: baseline\; font-size: 16px\;">10:00am&nbsp\;&ndash\;&nbsp\;Break</li>\n	<li style="margin: 0px 0px 0px 0.85em\; padding: 0px\; border: 0px\; vertical-align: baseline\; font-size: 16px\;">10:30am&nbsp\;&ndash\;&nbsp\;Organizational Risk Identification:&nbsp\;Table Top Exercise: Assess Company Risks and Identify Actions for Mitigation</li>\n	<li style="margin: 0px 0px 0px 0.85em\; padding: 0px\; border: 0px\; vertical-align: baseline\; font-size: 16px\;">11:30am&nbsp\;&ndash\;&nbsp\;Start Defending Against Cyber Risks Today:&nbsp\;Closing and Cybersecurity Consideration for Initial Implementation</li>\n	<li style="margin: 0px 0px 0px 0.85em\; padding: 0px\; border: 0px\; vertical-align: baseline\; font-size: 16px\;">12:00pm&nbsp\;&ndash\;&nbsp\;Networking Lunch</li>\n</ul>\n\n<p style="margin: 0px 0px 10px\; padding: 0px\; border: 0px\; vertical-align: baseline\; font-size: 16px\; overflow-wrap: break-word\; color: rgb(119\, 119\, 119)\; line-height: 1.7\; font-family: &quot\;Open Sans&quot\;\;"><em style="margin: 0px\; padding: 0px\; border: 0px\; vertical-align: baseline\;">Presented in partnership by:</em></p>\n\n<ul style="margin: 0px 0px 1em 1.5em\; padding-right: 0px\; padding-left: 0px\; border: 0px\; vertical-align: baseline\; font-size: 14px\; list-style-position: initial\; list-style-image: initial\; color: rgb(119\, 119\, 119)\; font-family: &quot\;Open Sans&quot\;\;">\n	<li style="margin: 0px 0px 0px 0.85em\; padding: 0px\; border: 0px\; vertical-align: baseline\; font-size: 16px\;">Greater Peoria Economic Development Council</li>\n	<li style="margin: 0px 0px 0px 0.85em\; padding: 0px\; border: 0px\; vertical-align: baseline\; font-size: 16px\;">Illinois Defense Network</li>\n	<li style="margin: 0px 0px 0px 0.85em\; padding: 0px\; border: 0px\; vertical-align: baseline\; font-size: 16px\;">Illinois PTAC at Bradley University</li>\n	<li style="margin: 0px 0px 0px 0.85em\; padding: 0px\; border: 0px\; vertical-align: baseline\; font-size: 16px\;">IMEC</li>\n	<li style="margin: 0px 0px 0px 0.85em\; padding: 0px\; border: 0px\; vertical-align: baseline\; font-size: 16px\;">Turner Center for Entrepreneurship</li>\n</ul>\n\n<p style="margin: 0px 0px 10px\; padding: 0px\; border: 0px\; vertical-align: baseline\; font-size: 16px\; overflow-wrap: break-word\; color: rgb(119\, 119\, 119)\; line-height: 1.7\; font-family: &quot\;Open Sans&quot\;\;"><strong style="margin: 0px\; padding: 0px\; border: 0px\; vertical-align: baseline\; color: rgb(0\, 0\, 0)\;">Cost</strong>: $50 per person.&nbsp\; Registration includes light breakfast\, lunch and training materials.</p>\n\n<p style="margin: 0px 0px 10px\; padding: 0px\; border: 0px\; vertical-align: baseline\; font-size: 16px\; overflow-wrap: break-word\; color: rgb(119\, 119\, 119)\; line-height: 1.7\; font-family: &quot\;Open Sans&quot\;\;"><strong style="margin: 0px\; padding: 0px\; border: 0px\; vertical-align: baseline\; color: rgb(0\, 0\, 0)\;">Contact Name</strong>: Emily Lee\, IMEC Program &amp\; Partner Relations Coordinator</p>\n\n<p style="margin: 0px 0px 10px\; padding: 0px\; border: 0px\; vertical-align: baseline\; font-size: 16px\; overflow-wrap: break-word\; color: rgb(119\, 119\, 119)\; line-height: 1.7\; font-family: &quot\;Open Sans&quot\;\;"><strong style="margin: 0px\; padding: 0px\; border: 0px\; vertical-align: baseline\; color: rgb(0\, 0\, 0)\;">Contact Phone:&nbsp\;</strong>(309) 677-4633</p>\n\n<p style="margin: 0px 0px 10px\; padding: 0px\; border: 0px\; vertical-align: baseline\; font-size: 16px\; overflow-wrap: break-word\; color: rgb(119\, 119\, 119)\; line-height: 1.7\; font-family: &quot\;Open Sans&quot\;\;"><strong style="margin: 0px\; padding: 0px\; border: 0px\; vertical-align: baseline\; color: rgb(0\, 0\, 0)\;">Contact Email</strong>: elee@imec.org</p>\n
LOCATION:Peoria Next Innovation Center 801 W. Main St. Peoria\, IL 61606
UID:e.526.6139
SEQUENCE:3
DTSTAMP:20260420T141520Z
URL:https://business.epcc.org/events/details/risk-management-the-importance-of-cybersecurity-for-defense-manufacturing-peoria-6139
END:VEVENT

END:VCALENDAR
