BEGIN:VCALENDAR
VERSION:2.0
PRODID:-//ChamberMaster//Event Calendar 2.0//EN
METHOD:PUBLISH
X-PUBLISHED-TTL:P3D
REFRESH-INTERVAL:P3D
CALSCALE:GREGORIAN
BEGIN:VEVENT
DTSTART:20190627T180000Z
DTEND:20190627T200000Z
X-MICROSOFT-CDO-ALLDAYEVENT:FALSE
SUMMARY:River City Inaugural Charitable Challenge
DESCRIPTION:River City Construction's 1st Annual Charitable Challenge\n\n\n\nSpace is limited to the first 24 teams\n\n\n\n9-holes of golf\n\n2 games of bowling\n\nDrinks & Food\n\nPrizes\n\nSupporting local non-profit organizations\n\n\n\nSend Registration and Payment to:\n\nRiver City Construction\, LLC\n\nAttn: Michele Beal\n\n101 Hoffer Lane\n\nEast Peoria\, IL 61611\n\np: 309-694-3120\; email: mbeal@rccllc.com
X-ALT-DESC;FMTTYPE=text/html:River City Construction&#39\;s 1st Annual Charitable Challenge<br />\n<br />\nSpace is limited to the first 24 teams<br />\n<br />\n9-holes of golf<br />\n2 games of bowling<br />\nDrinks &amp\; Food<br />\nPrizes<br />\nSupporting local non-profit organizations<br />\n<br />\nSend Registration and Payment to:<br />\nRiver City Construction\, LLC<br />\nAttn: Michele Beal<br />\n101 Hoffer Lane<br />\nEast Peoria\, IL 61611<br />\np: 309-694-3120\; email: mbeal@rccllc.com<br />\n&nbsp\;
LOCATION:Kellogg Golf Course and Mt. Hawley Bowling 1:00 pm 9 hole golf and 4:00pm 2 games of bowling All proceeds benefit: Ronald McDonald House Charities of Central Illinois Sponsor Opportunities: $2\,000.00 Dinner Sponsor (includes 1-foursome) $2\,000.00 Beverage Sponsor (includes 1-foursome) $1\,500.00 Prize Sponsor $150.00 Tee Sponsor Monetary donations are also accepted\, if you are unable to attend the event\, yet want to support Ronald McDonald House Charities of Central Illinois
UID:e.526.6075
SEQUENCE:3
DTSTAMP:20260420T153259Z
URL:https://business.epcc.org/events/details/river-city-inaugural-charitable-challenge-6075
END:VEVENT

END:VCALENDAR
