BEGIN:VCALENDAR
VERSION:2.0
PRODID:-//ChamberMaster//Event Calendar 2.0//EN
METHOD:PUBLISH
X-PUBLISHED-TTL:P3D
REFRESH-INTERVAL:P3D
CALSCALE:GREGORIAN
BEGIN:VEVENT
DTSTART:20180904T200000Z
DTEND:20180904T230000Z
X-MICROSOFT-CDO-ALLDAYEVENT:FALSE
SUMMARY:Riverview Market
DESCRIPTION:Riverview Market\n\n\n\nTuesdays 3-6 PM\n\n\n\nHomegrown Produce\, Baked Goods\, Dog Treats\, Home Decor\, Homemade Soaps\, Candles\, Live Entertainment\, and More!
X-ALT-DESC;FMTTYPE=text/html:Riverview Market<br />\n<br />\nTuesdays 3-6 PM<br />\n<br />\nHomegrown Produce\, Baked Goods\, Dog Treats\, Home Decor\, Homemade Soaps\, Candles\, Live Entertainment\, and More!
LOCATION:Riverview Senior Living Community 500 Centennial Drive East Peoria\, IL
UID:e.526.5604
SEQUENCE:3
DTSTAMP:20260421T052736Z
URL:https://business.epcc.org/events/details/riverview-market-09-04-2018-5604
END:VEVENT

END:VCALENDAR
