BEGIN:VCALENDAR
VERSION:2.0
PRODID:-//ChamberMaster//Event Calendar 2.0//EN
METHOD:PUBLISH
X-PUBLISHED-TTL:P3D
REFRESH-INTERVAL:P3D
CALSCALE:GREGORIAN
BEGIN:VEVENT
DTSTART:20180614T190000Z
DTEND:20180614T210000Z
X-MICROSOFT-CDO-ALLDAYEVENT:FALSE
SUMMARY:RIverview Senior Living Bingo Baseball
DESCRIPTION:
X-ALT-DESC;FMTTYPE=text/html:
LOCATION:RIverview Senior Living Community 500 Centennial Drive East Peoria\, IL 61611
UID:e.526.5516
SEQUENCE:3
DTSTAMP:20260421T140842Z
URL:https://business.epcc.org/events/details/riverview-senior-living-bingo-baseball-5516
END:VEVENT

END:VCALENDAR
