BEGIN:VCALENDAR
VERSION:2.0
PRODID:-//ChamberMaster//Event Calendar 2.0//EN
METHOD:PUBLISH
X-PUBLISHED-TTL:P3D
REFRESH-INTERVAL:P3D
CALSCALE:GREGORIAN
BEGIN:VEVENT
DTSTART:20180719T183000Z
DTEND:20180719T203000Z
X-MICROSOFT-CDO-ALLDAYEVENT:FALSE
SUMMARY:RIverview Senior Living Community Casino Party
DESCRIPTION:You are invited to a fun filled afternoon of blackjack\, roulette\, craps\, and poker at Riverview Senior Living. Join us for a chance to win prizes while having a great time. The event is free and open to the public. While here enjoy: a fabulous dessert bar and tours of the community!\n\n\n\nPlease contact Israel at (309) 404-9091 with questions!
X-ALT-DESC;FMTTYPE=text/html:You are invited to a fun filled afternoon of blackjack\, roulette\, craps\, and poker at Riverview Senior Living. Join us for a chance to win prizes while having a great time. The event is free and open to the public. While here enjoy: a fabulous dessert bar and tours of the community!<br />\n<br />\nPlease contact Israel at (309) 404-9091 with questions!
LOCATION:Riverview Senior Living Community 500 Centennial Drive East Peoria\, IL 61611
UID:e.526.5557
SEQUENCE:3
DTSTAMP:20260421T083914Z
URL:https://business.epcc.org/events/details/riverview-senior-living-community-casino-party-5557
END:VEVENT

END:VCALENDAR
