BEGIN:VCALENDAR
VERSION:2.0
PRODID:-//ChamberMaster//Event Calendar 2.0//EN
METHOD:PUBLISH
X-PUBLISHED-TTL:P3D
REFRESH-INTERVAL:P3D
CALSCALE:GREGORIAN
BEGIN:VEVENT
DTSTART:20181212T210000Z
DTEND:20181213T000000Z
X-MICROSOFT-CDO-ALLDAYEVENT:FALSE
SUMMARY:Riverview Senior Living New Owner Ribbon Cutting
DESCRIPTION:Please join us on Wednesday\, December12th at 3:00 pm for the New Owner Ribbon Cutting.
X-ALT-DESC;FMTTYPE=text/html:Please join us on Wednesday\, December12th at 3:00 pm for the New Owner Ribbon Cutting.&nbsp\;
LOCATION:500 Centennial Drive East Peoria\, IL 61611 Contact Michelle with questions at 309-648-7639.
UID:e.526.5685
SEQUENCE:3
DTSTAMP:20260421T005247Z
URL:https://business.epcc.org/events/details/riverview-senior-living-new-owner-ribbon-cutting-5685
END:VEVENT

END:VCALENDAR
