BEGIN:VCALENDAR
VERSION:2.0
PRODID:-//ChamberMaster//Event Calendar 2.0//EN
METHOD:PUBLISH
X-PUBLISHED-TTL:P3D
REFRESH-INTERVAL:P3D
CALSCALE:GREGORIAN
BEGIN:VEVENT
DTSTART:20170810T164500Z
DTEND:20170810T180000Z
X-MICROSOFT-CDO-ALLDAYEVENT:FALSE
SUMMARY:Roar! The Courage to Unleash the Brand Called You
DESCRIPTION:When others can clearly see who you are\, what you stand for\, and why you do what you do\, they find you authentic\, believable\, and compelling. But do you have a clear sense of purpose and direction that allows you to effectively define and demonstrate your brand?  Is what you're known for and how people describe you aligned with who you really are? Or is there something or someone holding you back from being the brand called "you"?\n\n \n\nIn this engaging session\, Cindy will share her unique approach to exploring your personal and professional brand in ways that are essential for living a life of purpose\, demonstrating integrity\, and distinguishing yourself in today's competitive environment as someone people care to know and do business with.  In addition to understanding personal branding and its components\, participants will:\n\n \n\n	Discuss the influence of  life stories\, values\, and passions\n	Learn why having a unique vision for the world is key to discovering your purpose and goals\n	Explore how to identify and correct blind spots that may inhibit authenticity
X-ALT-DESC;FMTTYPE=text/html:When others can clearly see who you are\, what you stand for\, and why you do what you do\, they find you authentic\, believable\, and compelling. But do you have a clear sense of purpose and direction that allows you to effectively define and demonstrate your brand?&nbsp\; Is what you&rsquo\;re known for and how people describe you aligned with who you really are? Or is there something or someone holding you back from being the brand called &ldquo\;you&rdquo\;?<br />\n&nbsp\;<br />\nIn this engaging session\, Cindy will share her unique approach to exploring your personal and professional brand in ways that are essential for living a life of purpose\, demonstrating integrity\, and distinguishing yourself in today&rsquo\;s competitive environment as someone people care to know and do business with.&nbsp\; In addition to understanding personal branding and its components\, participants will:<br />\n&nbsp\;\n<ul>\n	<li>Discuss the influence of&nbsp\; life stories\, values\, and passions</li>\n	<li>Learn why having a unique vision for the world is key to discovering your purpose and goals</li>\n	<li>Explore how to identify and correct blind spots that may inhibit authenticity&nbsp\;</li>\n</ul>\n
LOCATION:Web Services\, Inc. 424 Riverside Drive East Peoria\, IL 61611
UID:e.526.4326
SEQUENCE:3
DTSTAMP:20260422T055629Z
URL:https://business.epcc.org/events/details/roar-the-courage-to-unleash-the-brand-called-you-4326
END:VEVENT

END:VCALENDAR
