BEGIN:VCALENDAR
VERSION:2.0
PRODID:-//ChamberMaster//Event Calendar 2.0//EN
METHOD:PUBLISH
X-PUBLISHED-TTL:P3D
REFRESH-INTERVAL:P3D
CALSCALE:GREGORIAN
BEGIN:VEVENT
DTSTART;VALUE=DATE:20210309
DTEND;VALUE=DATE:20210310
TRANSP:TRANSPARENT
X-MICROSOFT-CDO-ALLDAYEVENT:TRUE
SUMMARY:Ronald McDonald House Charities: All-In Donation Day
DESCRIPTION:Our goal is twofold:\n\nraise $50\,000 in 24 hours and help fulfill our wish list items.\n\n\n\nAre you "All-In" for RMHCCI?\n\nThere are 3 simple ways to go All-In for RMHCCI: Give\, Share\, Ask!\n\n\n\n\n	Make a gift online! - a gift of any amount makes a difference to our families. Your gift will help us maintain our two Houses (Springfield and Peoria) as homes away from home for the families who stay here.\n\n	\n		On March 9th only\, your gift will be doubled! The Richard A. Perritt Charitable Foundation\, managed by RMHCCI Board Member Mark Tyrpin and family\, has committed to a $50\,000 matching gift for All-In Donation Day. Your gift of $5 is actually a $10 gift! \n		All funds raised on All-In Donation Day will be put toward our areas of greatest need\, but specific examples of what your gift can do are below...\n	\n	\n	Share a Facebook post about All-In Donation Day.\n	\n		Not sure what to share? View our toolkit for ideas!\n	\n	\n	Ask a friend to make a gift and share a message about All-In Donation Day on social media\, too!\n\n\n \n\n\n\nYour gift of each amount below could help us in these ways\n\n\n	$10   cleaning supplies to clean rooms and suites for families\n	$25   laundry detergent and supplies for family laundry room usage\n	$50   a new set of sheets for a family's room or suite\n	$88   the amount we estimate it costs for a family to stay a night.\n	\n		We never ask families to pay for their stay\, but your donation of $88 could help share a night with a family!\n	\n	\n	$125   a portable deep cleaner to aid in room cleaning\n	$250   a new vacuum for our Houses\n	$500   a 13 piece cookware set for our Guest Chefs to use in our kitchens\n\n\n\n\nWish List Fulfillment:\n\nMore information about local stores participating in our wish list drive coming soon!\n\nYou can also purchase an item directly from our Amazon registry!\n\n\n\nCommunity Events\n\n\n	Springfield: Visit the Schnuck's at Montvale (2801 Chatham Road) to participate in a supply drive of our wish list items!\n\n	\n	Peoria: On March 9th\, you can drop off your donations of wish list items at Northwoods Mall from 11 AM - 6 PM.\n\n\nMatching Gifts\n\nThank you to our matching gift donors!\n\n\n	The Richard A. Perritt Charitable Foundation\, managed by RMHCCI Board Member Mark Tyrpin and family\, will match all gifts made\, up to $50\,000 today. This means that your gift today is doubled!
X-ALT-DESC;FMTTYPE=text/html:<h2 style="box-sizing: border-box\; border: 0px\; font-family: &quot\;Helvetica Neue&quot\;\, Helvetica\, Arial\, sans-serif\; font-size: 30px\; margin: 40px 0px 5px\; outline: 0px\; padding: 0px\; vertical-align: baseline\; color: rgb(0\, 0\, 0)\; clear: both\; line-height: 1.1\; text-align: center\;">Our goal is twofold:<br style="box-sizing: border-box\;" />\nraise $50\,000 in 24 hours and help fulfill our wish list items.<br style="box-sizing: border-box\;" />\n<a name="allinways" style="box-sizing: border-box\; border-width: 0px\; border-style: initial\; border-color: initial\; font-family: inherit\; font-size: 27px\; font-style: inherit\; font-weight: 700\; margin: 0px\; outline: 0px\; padding: 0px\; vertical-align: baseline\; color: rgb(0\, 0\, 0)\;"></a><br style="box-sizing: border-box\;" />\n<strong style="box-sizing: border-box\; border: 0px\; font-family: inherit\; font-size: 27px\; font-style: inherit\; margin: 0px\; outline: 0px\; padding: 0px\; vertical-align: baseline\;">Are you &quot\;All-In&quot\; for RMHCCI?</strong></h2>\n\n<h3 style="box-sizing: border-box\; border: 0px\; font-family: &quot\;Helvetica Neue&quot\;\, Helvetica\, Arial\, sans-serif\; font-size: 24px\; margin: 35px 0px 5px\; outline: 0px\; padding: 0px\; vertical-align: baseline\; clear: both\; line-height: 1.1\;"><strong style="box-sizing: border-box\; border: 0px\; font-family: inherit\; font-size: 23px\; font-style: inherit\; margin: 0px\; outline: 0px\; padding: 0px\; vertical-align: baseline\;">There are 3 simple ways to go All-In for RMHCCI: Give\, Share\, Ask!</strong></h3>\n\n<div class="allinthermometer" style="box-sizing: border-box\; border: 0px\; font-family: Raleway\, sans-serif\; font-size: 16px\; margin: 0px 0px 0px 30px\; outline: 0px\; padding: 0px\; vertical-align: baseline\; float: right\;"><iframe class="qgiv-embed" frameborder="0" id="qgiv-embed-1412523" scrolling="no" src="https://secure.qgiv.com/for/taid2/widget/1412523/?form=950524&amp\;etype=form&amp\;entity=2977" style="box-sizing: border-box\; border-width: 0px\; border-style: initial\; font-family: inherit\; font-style: inherit\; font-weight: inherit\; margin: 0px\; outline: 0px\; padding: 0px\; vertical-align: baseline\; max-width: 100%\; width: 283.984px\; height: 420.063px\;"></iframe></div>\n\n<ol style="box-sizing: border-box\; border: 0px\; font-family: Raleway\, sans-serif\; font-size: 16px\; margin: 0px 0px 10px 3em\; outline: 0px\; padding-right: 0px\; padding-left: 0px\; vertical-align: baseline\; list-style-position: initial\; list-style-image: initial\;">\n	<li style="box-sizing: border-box\; border: 0px\; font-family: inherit\; font-style: inherit\; font-weight: inherit\; margin: 0px 0px 30px\; outline: 0px\; padding: 0px\; vertical-align: baseline\;"><a href="https://rmhc-centralillinois.org/allinday/#allindonate" style="box-sizing: border-box\; border: 0px\; font-family: inherit\; font-style: inherit\; font-weight: 700\; margin: 0px\; outline: 0px\; padding: 0px\; vertical-align: baseline\; color: rgb(72\, 114\, 174) !important\;">Make a gift online!</a>&nbsp\;- a gift of any amount makes a difference to our families. Your gift will help us maintain our two Houses (Springfield and Peoria) as homes away from home for the families who stay here.\n\n	<ul style="box-sizing: border-box\; border: 0px\; font-family: inherit\; font-style: inherit\; font-weight: inherit\; margin: 0px 0px 0px 1.5em\; outline: 0px\; padding-right: 0px\; padding-left: 0px\; vertical-align: baseline\; list-style: disc\;">\n		<li style="box-sizing: border-box\; border: 0px\; font-family: inherit\; font-style: inherit\; font-weight: inherit\; margin: 0px\; outline: 0px\; padding: 0px\; vertical-align: baseline\;"><span style="box-sizing: border-box\; border: 0px\; font-family: inherit\; font-style: inherit\; font-weight: inherit\; margin: 0px\; outline: 0px\; padding: 0px\; vertical-align: baseline\; color: rgb(255\, 0\, 0)\;"><strong style="box-sizing: border-box\; border: 0px\; font-family: inherit\; font-style: inherit\; margin: 0px\; outline: 0px\; padding: 0px\; vertical-align: baseline\;">On March 9th only\, your gift will be doubled! The Richard A. Perritt Charitable Foundation\, managed by RMHCCI Board Member Mark Tyrpin and family\, has committed to a $50\,000 matching gift for All-In Donation Day. Your gift of $5 is actually a $10 gift!&nbsp\;</strong></span></li>\n		<li style="box-sizing: border-box\; border: 0px\; font-family: inherit\; font-style: inherit\; font-weight: inherit\; margin: 0px\; outline: 0px\; padding: 0px\; vertical-align: baseline\;">All funds raised on All-In Donation Day will be put toward our areas of greatest need\, but&nbsp\;<a href="https://rmhc-centralillinois.org/allinday/#allinexamples" style="box-sizing: border-box\; border: 0px\; font-family: inherit\; font-style: inherit\; font-weight: 700\; margin: 0px\; outline: 0px\; padding: 0px\; vertical-align: baseline\; color: rgb(72\, 114\, 174) !important\;">specific examples of what your gift can do are below...</a></li>\n	</ul>\n	</li>\n	<li style="box-sizing: border-box\; border: 0px\; font-family: inherit\; font-style: inherit\; font-weight: inherit\; margin: 0px 0px 30px\; outline: 0px\; padding: 0px\; vertical-align: baseline\;"><strong style="box-sizing: border-box\; border: 0px\; font-family: inherit\; font-style: inherit\; margin: 0px\; outline: 0px\; padding: 0px\; vertical-align: baseline\;">Share</strong>&nbsp\;a&nbsp\;<a href="https://www.facebook.com/rmhcci/" rel="noopener noreferrer" style="box-sizing: border-box\; border: 0px\; font-family: inherit\; font-style: inherit\; font-weight: 700\; margin: 0px\; outline: 0px\; padding: 0px\; vertical-align: baseline\; color: rgb(72\, 114\, 174) !important\;" target="_blank">Facebook post</a>&nbsp\;about All-In Donation Day.\n	<ul style="box-sizing: border-box\; border: 0px\; font-family: inherit\; font-style: inherit\; font-weight: inherit\; margin: 0px 0px 0px 1.5em\; outline: 0px\; padding-right: 0px\; padding-left: 0px\; vertical-align: baseline\; list-style: disc\;">\n		<li style="box-sizing: border-box\; border: 0px\; font-family: inherit\; font-style: inherit\; font-weight: inherit\; margin: 0px\; outline: 0px\; padding: 0px\; vertical-align: baseline\;">Not sure what to share?&nbsp\;<a href="https://rmhc-centralillinois.org/allinday-rmhcci-social-sharing-assets/" style="box-sizing: border-box\; border: 0px\; font-family: inherit\; font-style: inherit\; font-weight: 700\; margin: 0px\; outline: 0px\; padding: 0px\; vertical-align: baseline\; color: rgb(72\, 114\, 174) !important\;">View our toolkit for ideas!</a></li>\n	</ul>\n	</li>\n	<li style="box-sizing: border-box\; border: 0px\; font-family: inherit\; font-style: inherit\; font-weight: inherit\; margin: 0px\; outline: 0px\; padding: 0px\; vertical-align: baseline\;"><strong style="box-sizing: border-box\; border: 0px\; font-family: inherit\; font-style: inherit\; margin: 0px\; outline: 0px\; padding: 0px\; vertical-align: baseline\;">Ask a friend</strong>&nbsp\;to make a gift and&nbsp\;<a href="https://rmhc-centralillinois.org/allinday/#allinsocialtools" style="box-sizing: border-box\; border: 0px\; font-family: inherit\; font-style: inherit\; font-weight: 700\; margin: 0px\; outline: 0px\; padding: 0px\; vertical-align: baseline\; color: rgb(72\, 114\, 174) !important\;">share a message</a>&nbsp\;about All-In Donation Day on&nbsp\;<a href="https://rmhc-centralillinois.org/allinday/#allinsocialtools" style="box-sizing: border-box\; border: 0px\; font-family: inherit\; font-style: inherit\; font-weight: 700\; margin: 0px\; outline: 0px\; padding: 0px\; vertical-align: baseline\; color: rgb(72\, 114\, 174) !important\;">social media</a>\, too!</li>\n</ol>\n\n<div style="box-sizing: border-box\; border: 0px\; font-family: Raleway\, sans-serif\; font-size: 16px\; margin: 60px 0px 0px\; outline: 0px\; padding: 0px\; vertical-align: baseline\;">&nbsp\;</div>\n\n<p style="box-sizing: border-box\; border: 0px\; font-family: Raleway\, sans-serif\; font-size: 16px\; margin: 0px 0px 10px\; outline: 0px\; padding: 0px\; vertical-align: baseline\;"><a name="allinexamples" style="box-sizing: border-box\; border-width: 0px\; border-style: initial\; border-color: initial\; font-family: inherit\; font-style: inherit\; font-weight: 700\; margin: 0px\; outline: 0px\; padding: 0px\; vertical-align: baseline\; color: rgb(72\, 114\, 174) !important\; text-decoration-line: underline !important\;"></a></p>\n\n<h3 style="box-sizing: border-box\; border: 0px\; font-family: &quot\;Helvetica Neue&quot\;\, Helvetica\, Arial\, sans-serif\; font-size: 24px\; margin: 35px 0px 5px\; outline: 0px\; padding: 0px\; vertical-align: baseline\; clear: both\; line-height: 1.1\; display: inline\;"><strong style="box-sizing: border-box\; border: 0px\; font-family: inherit\; font-size: 23px\; font-style: inherit\; margin: 0px\; outline: 0px\; padding: 0px\; vertical-align: baseline\;">Your gift of each amount below could help us in these ways</strong></h3>\n\n<ul style="box-sizing: border-box\; border: 0px\; font-family: Raleway\, sans-serif\; font-size: 16px\; margin: 0px 0px 10px 3em\; outline: 0px\; padding-right: 0px\; padding-left: 0px\; vertical-align: baseline\; list-style-position: initial\; list-style-image: initial\; max-width: 600px\;">\n	<li style="box-sizing: border-box\; border: 0px\; font-family: inherit\; font-style: inherit\; font-weight: inherit\; margin: 0px\; outline: 0px\; padding: 0px\; vertical-align: baseline\;">$10 &mdash\; cleaning supplies to clean rooms and suites for families</li>\n	<li style="box-sizing: border-box\; border: 0px\; font-family: inherit\; font-style: inherit\; font-weight: inherit\; margin: 0px\; outline: 0px\; padding: 0px\; vertical-align: baseline\;">$25 &mdash\; laundry detergent and supplies for family laundry room usage</li>\n	<li style="box-sizing: border-box\; border: 0px\; font-family: inherit\; font-style: inherit\; font-weight: inherit\; margin: 0px\; outline: 0px\; padding: 0px\; vertical-align: baseline\;">$50 &mdash\; a new set of sheets for a family&#39\;s room or suite</li>\n	<li style="box-sizing: border-box\; border: 0px\; font-family: inherit\; font-style: inherit\; font-weight: inherit\; margin: 0px\; outline: 0px\; padding: 0px\; vertical-align: baseline\;">$88 &mdash\; the amount we estimate it costs for a family to stay a night.\n	<ul style="box-sizing: border-box\; border: 0px\; font-family: inherit\; font-style: inherit\; font-weight: inherit\; margin: 0px 0px 0px 1.5em\; outline: 0px\; padding-right: 0px\; padding-left: 0px\; vertical-align: baseline\; list-style: disc\; max-width: 600px\;">\n		<li style="box-sizing: border-box\; border: 0px\; font-family: inherit\; font-style: inherit\; font-weight: inherit\; margin: 0px\; outline: 0px\; padding: 0px\; vertical-align: baseline\;">We never ask families to pay for their stay\, but your donation of $88 could help share a night with a family!</li>\n	</ul>\n	</li>\n	<li style="box-sizing: border-box\; border: 0px\; font-family: inherit\; font-style: inherit\; font-weight: inherit\; margin: 0px\; outline: 0px\; padding: 0px\; vertical-align: baseline\;">$125 &mdash\; a portable deep cleaner to aid in room cleaning</li>\n	<li style="box-sizing: border-box\; border: 0px\; font-family: inherit\; font-style: inherit\; font-weight: inherit\; margin: 0px\; outline: 0px\; padding: 0px\; vertical-align: baseline\;">$250 &mdash\; a new vacuum for our Houses</li>\n	<li style="box-sizing: border-box\; border: 0px\; font-family: inherit\; font-style: inherit\; font-weight: inherit\; margin: 0px\; outline: 0px\; padding: 0px\; vertical-align: baseline\;">$500 &mdash\; a 13 piece cookware set for our Guest Chefs to use in our kitchens</li>\n</ul>\n\n<p style="box-sizing: border-box\; border: 0px\; font-family: Raleway\, sans-serif\; font-size: 16px\; margin: 0px 0px 10px\; outline: 0px\; padding: 0px\; vertical-align: baseline\;"><a name="allinwishlist" style="box-sizing: border-box\; border-width: 0px\; border-style: initial\; border-color: initial\; font-family: inherit\; font-style: inherit\; font-weight: 700\; margin: 0px\; outline: 0px\; padding: 0px\; vertical-align: baseline\; color: rgb(72\, 114\, 174) !important\; text-decoration-line: underline !important\;"></a></p>\n\n<h3 style="box-sizing: border-box\; border: 0px\; font-family: &quot\;Helvetica Neue&quot\;\, Helvetica\, Arial\, sans-serif\; font-size: 24px\; margin: 35px 0px 5px\; outline: 0px\; padding: 0px\; vertical-align: baseline\; clear: both\; line-height: 1.1\;"><strong style="box-sizing: border-box\; border: 0px\; font-family: inherit\; font-size: 23px\; font-style: inherit\; margin: 0px\; outline: 0px\; padding: 0px\; vertical-align: baseline\;">Wish List Fulfillment:</strong></h3>\n\n<p style="box-sizing: border-box\; border: 0px\; font-family: Raleway\, sans-serif\; font-size: 16px\; margin: 0px 0px 10px\; outline: 0px\; padding: 0px\; vertical-align: baseline\;">More information about local stores participating in our wish list drive coming soon!</p>\n\n<p style="box-sizing: border-box\; border: 0px\; font-family: Raleway\, sans-serif\; font-size: 16px\; margin: 0px 0px 10px\; outline: 0px\; padding: 0px\; vertical-align: baseline\;">You can also purchase an item directly from our&nbsp\;<a href="https://www.amazon.com/hz/wishlist/genericItemsPage/1GML0HIBA68FF?filter=&amp\;ref_=bnav_topnav_lists_1&amp\;sort=default&amp\;type=wishlist&amp\;_encoding=UTF8" style="box-sizing: border-box\; border: 0px\; font-family: inherit\; font-style: inherit\; font-weight: 700\; margin: 0px\; outline: 0px\; padding: 0px\; vertical-align: baseline\; color: rgb(72\, 114\, 174) !important\;">Amazon registry</a>!<br style="box-sizing: border-box\;" />\n<a name="allincommunityevents" style="box-sizing: border-box\; border-width: 0px\; border-style: initial\; border-color: initial\; font-family: inherit\; font-style: inherit\; font-weight: 700\; margin: 0px\; outline: 0px\; padding: 0px\; vertical-align: baseline\; color: rgb(72\, 114\, 174) !important\; text-decoration-line: underline !important\;"></a></p>\n\n<h3 style="box-sizing: border-box\; border: 0px\; font-family: &quot\;Helvetica Neue&quot\;\, Helvetica\, Arial\, sans-serif\; font-size: 24px\; margin: 35px 0px 5px\; outline: 0px\; padding: 0px\; vertical-align: baseline\; clear: both\; line-height: 1.1\;"><strong style="box-sizing: border-box\; border: 0px\; font-family: inherit\; font-size: 23px\; font-style: inherit\; margin: 0px\; outline: 0px\; padding: 0px\; vertical-align: baseline\;">Community Events</strong></h3>\n\n<ul style="box-sizing: border-box\; border: 0px\; font-family: Raleway\, sans-serif\; font-size: 16px\; margin: 0px 0px 10px 3em\; outline: 0px\; padding-right: 0px\; padding-left: 0px\; vertical-align: baseline\; list-style-position: initial\; list-style-image: initial\;">\n	<li style="box-sizing: border-box\; border: 0px\; font-family: inherit\; font-style: inherit\; font-weight: inherit\; margin: 0px\; outline: 0px\; padding: 0px\; vertical-align: baseline\;"><strong style="box-sizing: border-box\; border: 0px\; font-family: inherit\; font-style: inherit\; margin: 0px\; outline: 0px\; padding: 0px\; vertical-align: baseline\;">Springfield:</strong>&nbsp\;Visit the Schnuck&#39\;s at Montvale (2801 Chatham Road) to participate in a supply drive of our wish list items!<br style="box-sizing: border-box\;" />\n	<a name="allgifts" style="box-sizing: border-box\; border-width: 0px\; border-style: initial\; border-color: initial\; font-family: inherit\; font-style: inherit\; font-weight: 700\; margin: 0px\; outline: 0px\; padding: 0px\; vertical-align: baseline\; color: rgb(72\, 114\, 174) !important\; text-decoration-line: underline !important\;"></a></li>\n	<li style="box-sizing: border-box\; border: 0px\; font-family: inherit\; font-style: inherit\; font-weight: inherit\; margin: 0px\; outline: 0px\; padding: 0px\; vertical-align: baseline\;"><strong style="box-sizing: border-box\; border: 0px\; font-family: inherit\; font-style: inherit\; margin: 0px\; outline: 0px\; padding: 0px\; vertical-align: baseline\;">Peoria:</strong>&nbsp\;On March 9th\, you can drop off your donations of wish list items at Northwoods Mall from 11 AM - 6 PM.</li>\n</ul>\n\n<h3 style="box-sizing: border-box\; border: 0px\; font-family: &quot\;Helvetica Neue&quot\;\, Helvetica\, Arial\, sans-serif\; font-size: 24px\; margin: 35px 0px 5px\; outline: 0px\; padding: 0px\; vertical-align: baseline\; clear: both\; line-height: 1.1\;"><strong style="box-sizing: border-box\; border: 0px\; font-family: inherit\; font-size: 23px\; font-style: inherit\; margin: 0px\; outline: 0px\; padding: 0px\; vertical-align: baseline\;">Matching Gifts</strong></h3>\n\n<p style="box-sizing: border-box\; border: 0px\; font-family: Raleway\, sans-serif\; font-size: 16px\; margin: 0px 0px 10px\; outline: 0px\; padding: 0px\; vertical-align: baseline\;">Thank you to our matching gift donors!</p>\n\n<ul style="box-sizing: border-box\; border: 0px\; font-family: Raleway\, sans-serif\; font-size: 16px\; margin: 0px 0px 10px 3em\; outline: 0px\; padding-right: 0px\; padding-left: 0px\; vertical-align: baseline\; list-style-position: initial\; list-style-image: initial\;">\n	<li style="box-sizing: border-box\; border: 0px\; font-family: inherit\; font-style: inherit\; font-weight: inherit\; margin: 0px\; outline: 0px\; padding: 0px\; vertical-align: baseline\;"><span style="box-sizing: border-box\; border: 0px\; font-family: inherit\; font-style: inherit\; font-weight: inherit\; margin: 0px\; outline: 0px\; padding: 0px\; vertical-align: baseline\; color: rgb(255\, 0\, 0)\;"><strong style="box-sizing: border-box\; border: 0px\; font-family: inherit\; font-style: inherit\; margin: 0px\; outline: 0px\; padding: 0px\; vertical-align: baseline\;">The Richard A. Perritt Charitable Foundation\, managed by RMHCCI Board Member Mark Tyrpin and family\, will match all gifts made\, up to $50\,000 today. This means that your gift today is doubled!&nbsp\;</strong></span></li>\n</ul>\n
LOCATION:
UID:e.526.6549
SEQUENCE:3
DTSTAMP:20260421T083813Z
URL:https://business.epcc.org/events/details/ronald-mcdonald-house-charities-all-in-donation-day-6549
END:VEVENT

END:VCALENDAR
