BEGIN:VCALENDAR
VERSION:2.0
PRODID:-//ChamberMaster//Event Calendar 2.0//EN
METHOD:PUBLISH
X-PUBLISHED-TTL:P3D
REFRESH-INTERVAL:P3D
CALSCALE:GREGORIAN
BEGIN:VEVENT
DTSTART:20170510T163000Z
DTEND:20170510T180000Z
X-MICROSOFT-CDO-ALLDAYEVENT:FALSE
SUMMARY:Safety & Security for the Business Professional Traveling Abroad
DESCRIPTION:Corporate espionage is an increasingly serious threat for the business traveler. The perpetrator may be a competitor\, opportunist\, or foreign intelligence officer. In many countries\, domestic corporations collect competitive intelligence with the help and support of their government. To mitigate this risk\, your organization's critical information and technologies should be protected. The U.S. Department of Justice Federal Bureau of Investigation will provide some valuable information to help promote good security habits that will help protect you and your company. Sponsored by The Illinois SBDC International Trade Center\, in partnership with the Turner Center of Entrepreneurship\, at Bradley University.
X-ALT-DESC;FMTTYPE=text/html:<span style="color: black\;"><span style="font-family: arial\,sans-serif\;"><span style="font-size: 12pt\;">Corporate espionage is an increasingly serious threat for the business traveler. The perpetrator may be a competitor\, opportunist\, or foreign intelligence officer. In many countries\, domestic corporations collect competitive intelligence with the help and support of their government. To mitigate this risk\, your organization&#39\;s critical information and technologies should be protected. The U.S. Department of Justice Federal Bureau of Investigation will provide some valuable information to help promote good security habits that will help protect you and your company. Sponsored by The Illinois SBDC International Trade Center\, in partnership with the Turner Center of Entrepreneurship\, at Bradley University.&nbsp\;</span></span></span>
LOCATION:Peoria NEXT Innovation Center 801 W Main St Peoria IL 61606
UID:e.526.4308
SEQUENCE:3
DTSTAMP:20260422T085950Z
URL:https://business.epcc.org/events/details/safety-security-for-the-business-professional-traveling-abroad-4308
END:VEVENT

END:VCALENDAR
