BEGIN:VCALENDAR
VERSION:2.0
PRODID:-//ChamberMaster//Event Calendar 2.0//EN
METHOD:PUBLISH
X-PUBLISHED-TTL:P3D
REFRESH-INTERVAL:P3D
CALSCALE:GREGORIAN
BEGIN:VEVENT
DTSTART:20161209T200000Z
DTEND:20161212T020000Z
X-MICROSOFT-CDO-ALLDAYEVENT:FALSE
SUMMARY:Santa's Wildlife Express
DESCRIPTION:Ride the train through the decorate woods\, enjoy a night with Santa and Mrs. Claus\, decorate a holiday cookie to take home\, watch our animals open their gifts\, do fun holiday crafts and games or enjoy a snack\, hot chocolate\, or a full meal from our delicious menu!
X-ALT-DESC;FMTTYPE=text/html:Ride the train through the decorate woods\, enjoy a night with Santa and Mrs. Claus\, decorate a holiday cookie to take home\, watch our animals open their gifts\, do fun holiday crafts and games or enjoy a snack\, hot chocolate\, or a full meal from our delicious menu!
LOCATION:Wildlife Prairie Park 3826 N Taylor Rd Hanna City\, IL 61536
UID:e.526.3286
SEQUENCE:3
DTSTAMP:20260422T154736Z
URL:https://business.epcc.org/events/details/santa-s-wildlife-express-3286
END:VEVENT

END:VCALENDAR
