BEGIN:VCALENDAR
VERSION:2.0
PRODID:-//ChamberMaster//Event Calendar 2.0//EN
METHOD:PUBLISH
X-PUBLISHED-TTL:P3D
REFRESH-INTERVAL:P3D
CALSCALE:GREGORIAN
BEGIN:VEVENT
DTSTART;VALUE=DATE:20181024
DTEND;VALUE=DATE:20181025
TRANSP:TRANSPARENT
X-MICROSOFT-CDO-ALLDAYEVENT:TRUE
SUMMARY:Savant Capital Management Presentation
DESCRIPTION:It's not too late to register for our next Savant Ideal Perspectives event\, "Why The FBI Can't Stop Cybercrime and How You Can\," featuring Jeff Lanza! \n\nCybercrime expert and retired FBI agent\, Jeff Lanza\, uses real life examples of the latest hacks\, security breaches and computer scams to demonstrate how cybercrime occurs and what countermeasures we can take to combat the innovations of criminals. This non-technical presentation will provide proven approaches to recognize and prevent the latest cybercrimes. \n\n \n\nIf you haven't already registered\, call Diane Peters at 866-489-0500 or email  dpeters@savantcapital.com
X-ALT-DESC;FMTTYPE=text/html:<p><span style="font-size:13.5pt\;font-family:&quot\;Georgia&quot\;\,serif">It&#39\;s not too late to register for our next Savant Ideal Perspectives event\, &quot\;<i>Why The FBI Can&#39\;t Stop Cybercrime and How You Can\,</i>&quot\;&nbsp\;featuring Jeff Lanza!</span> <o:p></o:p></p>\n\n<p><span style="font-size:13.5pt\;font-family:&quot\;Georgia&quot\;\,serif">Cybercrime expert and retired FBI agent\, Jeff Lanza\, uses real life examples of the latest hacks\, security breaches and computer scams to demonstrate how cybercrime occurs and what countermeasures we can take to combat the innovations of criminals. This non-technical presentation will provide proven approaches to recognize and prevent the latest cybercrimes.</span> <o:p></o:p><br />\n&nbsp\;</p>\n\n<p><span style="font-size:13.5pt\;font-family:&quot\;Georgia&quot\;\,serif\;color:black">If you haven&#39\;t already registered\, call Diane Peters at 866-489-0500 or email&nbsp\;</span><span style="font-size:13.5pt\;font-family:&quot\;Georgia&quot\;\,serif\;\ncolor:#EF7521"> <a href="mailto:dpeters@savantcapital.com%20?subject=Register%20for%20Jeff%20Lanza" title="Register for Jeff Lanza">dpeters@savantcapital.com</a></span><span style="font-size:18.0pt\;font-family:&quot\;Georgia&quot\;\,serif"> <o:p></o:p></span></p>\n
LOCATION:Hotel Arista 139 City Gate Lane Naperville\, IL
UID:e.526.5641
SEQUENCE:3
DTSTAMP:20260421T040125Z
URL:https://business.epcc.org/events/details/savant-capital-management-presentation-5641
END:VEVENT

END:VCALENDAR
