BEGIN:VCALENDAR
VERSION:2.0
PRODID:-//ChamberMaster//Event Calendar 2.0//EN
METHOD:PUBLISH
X-PUBLISHED-TTL:P3D
REFRESH-INTERVAL:P3D
CALSCALE:GREGORIAN
BEGIN:VEVENT
DTSTART:20180808T150000Z
DTEND:20180808T170000Z
X-MICROSOFT-CDO-ALLDAYEVENT:FALSE
SUMMARY:SCORE: Facebook Marketing Strategies
DESCRIPTION:Facebook is one of the most effective ways to advertise your business. In this workshop for experienced Facebook users\, Tammy Finch\, founder and CEO of Web Services\, Inc\, will discuss key items you need on Facebook for effective marketing. She'll show you how to boost\, target your audience\, and how to expand your reach beyond your Facebook fans.
X-ALT-DESC;FMTTYPE=text/html:<span style="color:#444444\;"><span style="font-family:calibri\,sans-serif\;"><span style="font-size:14.0pt\;">Facebook is one of the most effective ways to advertise your business. In this workshop for experienced Facebook users\, Tammy Finch\, founder and CEO of Web Services\, Inc\, will discuss key items you need on Facebook for effective marketing. She&#39\;ll show you how to boost\, target your audience\, and how to expand your reach beyond your Facebook fans.</span></span></span><br />\n<br />\n&nbsp\;
LOCATION:Fondulac Bank - Fondulac Room 201 Clock Tower Dr. East Peoria\, IL 61611
UID:e.526.5571
SEQUENCE:3
DTSTAMP:20260421T070143Z
URL:https://business.epcc.org/events/details/score-facebook-marketing-strategies-5571
END:VEVENT

END:VCALENDAR
