BEGIN:VCALENDAR
VERSION:2.0
PRODID:-//ChamberMaster//Event Calendar 2.0//EN
METHOD:PUBLISH
X-PUBLISHED-TTL:P3D
REFRESH-INTERVAL:P3D
CALSCALE:GREGORIAN
BEGIN:VEVENT
DTSTART:20191012T170000Z
DTEND:20191012T190000Z
X-MICROSOFT-CDO-ALLDAYEVENT:FALSE
SUMMARY:Service Dogs Visit Wheels O' Time Museum
DESCRIPTION:When you visit\, you may find yourself walking alongside a service dog and handler! The lights\, sounds\, and various exhibit types will provide a unique training opportunity for the service dogs and service dogs in training of Paws Giving Independence NFP\n\n\n\nThe objective of PGI is to train service dogs to assist people with a variety of different disabilities while providing support to encourage independence. PGI educates the public to the benefits of Service Dogs and encourages animal rescue by obtaining many of their animals from shelters and rescue groups. Paws Giving Independence provides quality service dogs free of charge to adults and children. It is a fully volunteer-run organization.\n\n\n\nRegular admission rates apply.
X-ALT-DESC;FMTTYPE=text/html:<span style="color:rgb(29\, 33\, 41)\; font-family:system-ui\,-apple-system\,system-ui\,.sfnstext-regular\,sans-serif\; font-size:14px">When you visit\, you may find yourself walking alongside a service dog and handler! The lights\, sounds\, and various exhibit types will provide a unique training opportunity for the service dogs and service dogs in training of </span><a href="https://www.facebook.com/PawsGivingIndependence/" style="color: rgb(56\, 88\, 152)\; cursor: pointer\; text-decoration-line: none\; font-family: system-ui\, -apple-system\, system-ui\, &quot\;.SFNSText-Regular&quot\;\, sans-serif\; font-size: 14px\; white-space: pre-wrap\;" target="_blank">Paws Giving Independence NFP</a><br />\n<br />\n<span style="color:rgb(29\, 33\, 41)\; font-family:system-ui\,-apple-system\,system-ui\,.sfnstext-regular\,sans-serif\; font-size:14px">The objective of PGI is to train service dogs to assist people with a variety of different disabilities while providing support to encourage independence. PGI educates the public to the benefits of Service Dogs and encourages animal rescue by obtaining many of their animals from shelters and rescue groups. Paws Giving Independence provides quality service dogs free of charge to adults and children. It is a fully volunteer-run organization.</span><br />\n<br />\n<span style="color:rgb(29\, 33\, 41)\; font-family:system-ui\,-apple-system\,system-ui\,.sfnstext-regular\,sans-serif\; font-size:14px">Regular admission rates apply.</span>
LOCATION:Wheels O' Time Museum 1710 W Woodside Drive Dunlap\, IL 61525
UID:e.526.6219
SEQUENCE:3
DTSTAMP:20260420T052515Z
URL:https://business.epcc.org/events/details/service-dogs-visit-wheels-o-time-museum-6219
END:VEVENT

END:VCALENDAR
