BEGIN:VCALENDAR
VERSION:2.0
PRODID:-//ChamberMaster//Event Calendar 2.0//EN
METHOD:PUBLISH
X-PUBLISHED-TTL:P3D
REFRESH-INTERVAL:P3D
CALSCALE:GREGORIAN
BEGIN:VEVENT
DTSTART:20160623T150000Z
DTEND:20160623T163000Z
X-MICROSOFT-CDO-ALLDAYEVENT:FALSE
SUMMARY:Skills Employers Look For/ Get Job Ready
DESCRIPTION:This course will discuss various soft skills that employers look for when making hiring decisions and includes activities to assist participants in developing and incorporating soft skills in their work habits.
X-ALT-DESC;FMTTYPE=text/html:This course will discuss various soft skills that employers look for when making hiring decisions and includes activities to assist participants in developing and incorporating soft skills in their work habits.
LOCATION:Goodwill Commons at 2319 E. War Memorial Dr.\, Peoria\, IL 61614
UID:e.526.3121
SEQUENCE:3
DTSTAMP:20260424T111105Z
URL:https://business.epcc.org/events/details/skills-employers-look-for-get-job-ready-06-23-2016-3121
END:VEVENT

END:VCALENDAR
