BEGIN:VCALENDAR
VERSION:2.0
PRODID:-//ChamberMaster//Event Calendar 2.0//EN
METHOD:PUBLISH
X-PUBLISHED-TTL:P3D
REFRESH-INTERVAL:P3D
CALSCALE:GREGORIAN
BEGIN:VEVENT
DTSTART:20160526T150000Z
DTEND:20160526T163000Z
X-MICROSOFT-CDO-ALLDAYEVENT:FALSE
SUMMARY:Social Media and Your Job Search
DESCRIPTION:This course discusses how to utilize social media in your job search\, as well as how to create professional online profiles.
X-ALT-DESC;FMTTYPE=text/html:This course discusses how to utilize social media in your job search\, as well as how to create professional online profiles.
LOCATION:Goodwill Commons at 2319 E. War Memorial Dr.\, Peoria\, IL 61614
UID:e.526.3110
SEQUENCE:3
DTSTAMP:20260424T123315Z
URL:https://business.epcc.org/events/details/social-media-and-your-job-search-05-26-2016-3110
END:VEVENT

END:VCALENDAR
