BEGIN:VCALENDAR
VERSION:2.0
PRODID:-//ChamberMaster//Event Calendar 2.0//EN
METHOD:PUBLISH
X-PUBLISHED-TTL:P3D
REFRESH-INTERVAL:P3D
CALSCALE:GREGORIAN
BEGIN:VEVENT
DTSTART:20181204T233000Z
DTEND:20181205T003000Z
X-MICROSOFT-CDO-ALLDAYEVENT:FALSE
SUMMARY:Social Security Seminar Hosted by John Graham and Associates
DESCRIPTION:
X-ALT-DESC;FMTTYPE=text/html:
LOCATION:
UID:e.526.5686
SEQUENCE:3
DTSTAMP:20260421T022409Z
URL:https://business.epcc.org/events/details/social-security-seminar-hosted-by-john-graham-and-associates-5686
END:VEVENT

END:VCALENDAR
