BEGIN:VCALENDAR
VERSION:2.0
PRODID:-//ChamberMaster//Event Calendar 2.0//EN
METHOD:PUBLISH
X-PUBLISHED-TTL:P3D
REFRESH-INTERVAL:P3D
CALSCALE:GREGORIAN
BEGIN:VEVENT
DTSTART:20190430T130000Z
DTEND:20190430T153000Z
X-MICROSOFT-CDO-ALLDAYEVENT:FALSE
SUMMARY:Sorting Out Social Media
DESCRIPTION:This one hour class was such a hit we will be offering it again! \n\n\n\nThe first class is at 8am and will be the groundwork class. This is easy tips for your small business for Facebook and Instagram and your overall strategy: What works and what doesn't. This is great for beginners or if you have questions how Facebook has changed over this last year. Here is the link to sign up for that class: https://forms.gle/t75Y5TMbX27PqgNW7\n\n\n\nThe is the 2nd class and will start around 9:30am. This will get in to more depth on how to read analytics\, what to read\, and how to better use them. Here is the link to sign up for that class: https://forms.gle/9yKKxgThneTzSfXj7\n\n\n\nBring your logins and laptops and feel free to stay after! For Accredited Businesses there is absolutely no cost and for businesses who are not Accredited the cost is $50. RSVP at the respective links and hurry as space is limited!
X-ALT-DESC;FMTTYPE=text/html:<span style="color:rgb(29\, 33\, 41)\; font-family:helvetica\,arial\,sans-serif\; font-size:14px">This one hour class was such a hit we will be offering it again! </span><br />\n<br />\n<span style="color:rgb(29\, 33\, 41)\; font-family:helvetica\,arial\,sans-serif\; font-size:14px">The first class is at 8am and will be the groundwork class. This is easy tips for your small business for Facebook and Instagram and your overall strategy: What works and what doesn&#39\;t. This is great for beginners or if you have questions how Facebook has changed over this last year. Here is the link to sign up for that class: </span><a href="https://l.facebook.com/l.php?u=https%3A%2F%2Fforms.gle%2Ft75Y5TMbX27PqgNW7%3Ffbclid%3DIwAR3n_YBchOsL_jyqWUgIRZY5vMmoChafE9hJokf4oZvh1UBZ-XqxfZzyYjs&amp\;h=AT0XozMHm78KroER-n2lE3ceyp3LTmDROeNGvRlwF9ZHryUa0I0Ngf8GU12TnT4SVJAzRgSGylmwqKtUccVJbsmD9OPk7r8lnznMjDBYui3R3Ftum_M69ygDvM4XDX8" rel="nofollow noopener" style="color: rgb(54\, 88\, 153)\; cursor: pointer\; text-decoration-line: none\; font-family: Helvetica\, Arial\, sans-serif\; font-size: 14px\; white-space: pre-wrap\;" target="_blank">https://forms.gle/t75Y5TMbX27PqgNW7</a><br />\n<br />\n<span style="color:rgb(29\, 33\, 41)\; font-family:helvetica\,arial\,sans-serif\; font-size:14px">The is the 2nd class and will start around 9:30am. This will get in to more depth on how to read analytics\, what to read\, and how to better use them. Here is the link to sign up for that class: </span><a href="https://forms.gle/9yKKxgThneTzSfXj7?fbclid=IwAR2a32c7zI5DHiVO7zYAHOshzO1b3PjSMPYTtq6329o2KVKtBI5R7yv9uHs" rel="nofollow noopener" style="color: rgb(54\, 88\, 153)\; cursor: pointer\; text-decoration-line: none\; font-family: Helvetica\, Arial\, sans-serif\; font-size: 14px\; white-space: pre-wrap\;" target="_blank">https://forms.gle/9yKKxgThneTzSfXj7</a><br />\n<br />\n<span style="color:rgb(29\, 33\, 41)\; font-family:helvetica\,arial\,sans-serif\; font-size:14px">Bring your logins and laptops and feel free to stay after! For Accredited Businesses there is absolutely no cost and for businesses who are not Accredited the cost is $50. RSVP at the respective links and hurry as space is limited! </span>
LOCATION:8100 N. University St\, Peoria\, IL 61615
UID:e.526.5991
SEQUENCE:3
DTSTAMP:20260420T200215Z
URL:https://business.epcc.org/events/details/sorting-out-social-media-04-30-2019-5991
END:VEVENT

END:VCALENDAR
