BEGIN:VCALENDAR
VERSION:2.0
PRODID:-//ChamberMaster//Event Calendar 2.0//EN
METHOD:PUBLISH
X-PUBLISHED-TTL:P3D
REFRESH-INTERVAL:P3D
CALSCALE:GREGORIAN
BEGIN:VEVENT
DTSTART:20190131T130000Z
DTEND:20190131T140000Z
X-MICROSOFT-CDO-ALLDAYEVENT:FALSE
SUMMARY:Sorting Out Social Media
DESCRIPTION:This one hour class will be easy tips for your small business for Facebook and Instagram and your overall strategy: What works and what doesn't. This is great for beginners or if you have questions how Facebook has changed over this last year. \n\n\n\nBring your logins and laptops and feel free to stay after! For Accredited Businesses there is absolutely no cost and for businesses who are not Accredited the cost is $50. RSVP at this link and hurry as space is limited! https://bit.ly/2Cyt3nQ
X-ALT-DESC;FMTTYPE=text/html:<span style="color:rgb(29\, 33\, 41)\; font-family:helvetica\,arial\,sans-serif\; font-size:14px">This one hour class will be easy tips for your small business for Facebook and Instagram and your overall strategy: What works and what doesn&#39\;t. This is great for beginners or if you have questions how Facebook has changed over this last year. </span><br />\n<br />\n<span style="color:rgb(29\, 33\, 41)\; font-family:helvetica\,arial\,sans-serif\; font-size:14px">Bring your logins and laptops and feel free to stay after! For Accredited Businesses there is absolutely no cost and for businesses who are not Accredited the cost is $50. RSVP at this link and hurry as space is limited! </span><a href="https://bit.ly/2Cyt3nQ?fbclid=IwAR13JiO5rhY-flbxLk9DIgDfM2lHYnIsy71Zhol2TBsZuogJOIx0fOyLEUA" rel="nofollow noopener" style="color: rgb(54\, 88\, 153)\; cursor: pointer\; text-decoration-line: none\; font-family: Helvetica\, Arial\, sans-serif\; font-size: 14px\; white-space: pre-wrap\;" target="_blank">https://bit.ly/2Cyt3nQ</a>
LOCATION:8100 N. University St\, Peoria\, IL 61615
UID:e.526.5938
SEQUENCE:3
DTSTAMP:20260420T230652Z
URL:https://business.epcc.org/events/details/sorting-out-social-media-5938
END:VEVENT

END:VCALENDAR
