BEGIN:VCALENDAR
VERSION:2.0
PRODID:-//ChamberMaster//Event Calendar 2.0//EN
METHOD:PUBLISH
X-PUBLISHED-TTL:P3D
REFRESH-INTERVAL:P3D
CALSCALE:GREGORIAN
BEGIN:VEVENT
DTSTART:20190322T130000Z
DTEND:20190322T153000Z
X-MICROSOFT-CDO-ALLDAYEVENT:FALSE
SUMMARY:Sorting Out Social Media-The Series now with 2 classes
DESCRIPTION:This one hour class was such a hit we will be offering it again! And it will be expanded in to a series. \n\n\n\nThe first class is at 8am and will be the groundwork class. This is easy tips for your small business for Facebook and Instagram and your overall strategy: What works and what doesn't. This is great for beginners or if you have questions how Facebook has changed over this last year. Here is the link to sign up for that class: https://docs.google.com/forms/d/1Xza4F0_NEpjKc8Pu-3klktcbL1nqaMiCgGL03SppUO8/edit\n\n\n\nThe second class is at 9:30am and will be for Analytics. What is working and what isn't? https://docs.google.com/forms/d/1YEshwXfLtEp5VelCH7BbSAfLM3KE5yO_N1q4e7fFCo0/edit\n\n\n\nBring your logins and laptops and feel free to stay after! For Accredited Businesses there is absolutely no cost and for businesses who are not Accredited the cost is $50. RSVP at the respective links and hurry as space is limited!
X-ALT-DESC;FMTTYPE=text/html:<span style="color:rgb(29\, 33\, 41)\; font-family:helvetica\,arial\,sans-serif\; font-size:14px">This one hour class was such a hit we will be offering it again! And it will be expanded in to a series. </span><br />\n<br />\n<span style="color:rgb(29\, 33\, 41)\; font-family:helvetica\,arial\,sans-serif\; font-size:14px">The first class is at 8am and will be the groundwork class. This is easy tips for your small business for Facebook and Instagram and your overall strategy: What works and what doesn&#39\;t. This is great for beginners or if you have questions how Facebook has changed over this last year. Here is the link to sign up for that class: </span><a href="https://docs.google.com/forms/d/1Xza4F0_NEpjKc8Pu-3klktcbL1nqaMiCgGL03SppUO8/edit?fbclid=IwAR29iMC3OO2cPaoUDQLaSR9PpSretfUGqjMC-rlU9pn66gjxnX79wi_XO9E" rel="nofollow noopener" style="color: rgb(54\, 88\, 153)\; cursor: pointer\; text-decoration-line: none\; font-family: Helvetica\, Arial\, sans-serif\; font-size: 14px\; white-space: pre-wrap\;" target="_blank">https://docs.google.com/forms/d/1Xza4F0_NEpjKc8Pu-3klktcbL1nqaMiCgGL03SppUO8/edit</a><br />\n<br />\n<span style="color:rgb(29\, 33\, 41)\; font-family:helvetica\,arial\,sans-serif\; font-size:14px">The second class is at 9:30am and will be for Analytics. What is working and what isn&#39\;t? </span><a href="https://docs.google.com/forms/d/1YEshwXfLtEp5VelCH7BbSAfLM3KE5yO_N1q4e7fFCo0/edit?fbclid=IwAR3pC7jekykHqA1DFSB_XcKMNs4T3Wg4fA7rXThq_PLxbpFFa33bhmg3Ujw" rel="nofollow noopener" style="color: rgb(54\, 88\, 153)\; cursor: pointer\; text-decoration-line: none\; font-family: Helvetica\, Arial\, sans-serif\; font-size: 14px\; white-space: pre-wrap\;" target="_blank">https://docs.google.com/forms/d/1YEshwXfLtEp5VelCH7BbSAfLM3KE5yO_N1q4e7fFCo0/edit</a><br />\n<br />\n<span style="color:rgb(29\, 33\, 41)\; font-family:helvetica\,arial\,sans-serif\; font-size:14px">Bring your logins and laptops and feel free to stay after! For Accredited Businesses there is absolutely no cost and for businesses who are not Accredited the cost is $50. RSVP at the respective links and hurry as space is limited! </span>
LOCATION:8100 N. University St\, Peoria\, IL 61615
UID:e.526.5977
SEQUENCE:3
DTSTAMP:20260420T201016Z
URL:https://business.epcc.org/events/details/sorting-out-social-media-the-series-now-with-2-classes-5977
END:VEVENT

END:VCALENDAR
