BEGIN:VCALENDAR
VERSION:2.0
PRODID:-//ChamberMaster//Event Calendar 2.0//EN
METHOD:PUBLISH
X-PUBLISHED-TTL:P3D
REFRESH-INTERVAL:P3D
CALSCALE:GREGORIAN
BEGIN:VEVENT
DTSTART:20160218T170000Z
DTEND:20160218T213000Z
X-MICROSOFT-CDO-ALLDAYEVENT:FALSE
SUMMARY:Spring Job & Internship Fair
DESCRIPTION:Registration is now available for Bradley University's Spring Job & Internship Fair on Thursday\, February 18\, 2016. This all-majors fair draws over 900 Bradley students and recent graduates. \n\n \n\nBradley is a prestigious\, private university offering more than 185 academic programs in business\, communications\, education\, engineering\, fine arts\, health sciences\, liberal arts and sciences\, and technology.  In addition to strong academics\, Bradley's commitment to experiential learning prepares our students to make an impact at your organization.
X-ALT-DESC;FMTTYPE=text/html:<span style="font-size: 11pt\;"><span style="color: black\;"><span style="font-family: times new roman\;">Registration is now available for Bradley University&#39\;s Spring Job &amp\; Internship Fair on Thursday\, February 18\, 2016. This all-majors fair draws over 900 Bradley students and recent graduates.&nbsp\;</span></span></span><br />\n&nbsp\;<br />\n<span style="font-size: 11pt\;"><span style="font-family: times new roman\,serif\;"><span style="color: black\;">Bradley is a prestigious\, private university offering more than 185 academic programs in business\, communications\, education\, engineering\, fine arts\, health sciences\, liberal arts and sciences\, and technology. &nbsp\;In addition to strong academics\, Bradley&#39\;s commitment to experiential learning prepares our students to make an impact at your organization.</span></span></span>
LOCATION:Bradley University Renaissance Coliseum 1501 W. Bradley Ave. Peoria\, IL. 61625
UID:e.526.2886
SEQUENCE:3
DTSTAMP:20260424T175901Z
URL:https://business.epcc.org/events/details/spring-job-internship-fair-02-18-2016-2886
END:VEVENT

END:VCALENDAR
