BEGIN:VCALENDAR
VERSION:2.0
PRODID:-//ChamberMaster//Event Calendar 2.0//EN
METHOD:PUBLISH
X-PUBLISHED-TTL:P3D
REFRESH-INTERVAL:P3D
CALSCALE:GREGORIAN
BEGIN:VEVENT
DTSTART:20180726T230000Z
DTEND:20180727T023000Z
X-MICROSOFT-CDO-ALLDAYEVENT:FALSE
SUMMARY:SSOC Night with the Peoria Chiefs
DESCRIPTION:Play ball! \n\nJoin the staff and clients of the South Side Office of Concern for SSOC Night with the Peoria Chiefs. Cheer on the Chiefs when they take on the Wisconsin Timber Rattlers and enjoy the fantastic fireworks after the game!\n\n\n\nGates Open: 6:00 pm / Game Time: 7:00 pm\n\n\n\nTickets are $14 each. To purchase tickets\, call 309/222-2751 or email kberchtold@southsideofficeofconcern.org
X-ALT-DESC;FMTTYPE=text/html:<span style="color: rgb(29\, 33\, 41)\; font-family: Helvetica\, Arial\, sans-serif\; font-size: 14px\;">Play ball!&nbsp\;</span><br style="color: rgb(29\, 33\, 41)\; font-family: Helvetica\, Arial\, sans-serif\; font-size: 14px\;" />\n<span style="color: rgb(29\, 33\, 41)\; font-family: Helvetica\, Arial\, sans-serif\; font-size: 14px\;">Join the staff and clients of the South Side Office of Concern for SSOC Night with the Peoria Chiefs. Cheer on the Chiefs when they take on the Wisconsin Timber Rattlers and enjoy the fantastic fireworks after the game!</span><br style="color: rgb(29\, 33\, 41)\; font-family: Helvetica\, Arial\, sans-serif\; font-size: 14px\;" />\n<br style="color: rgb(29\, 33\, 41)\; font-family: Helvetica\, Arial\, sans-serif\; font-size: 14px\;" />\n<span style="color: rgb(29\, 33\, 41)\; font-family: Helvetica\, Arial\, sans-serif\; font-size: 14px\;">Gates Open: 6:00 pm / Game Time: 7:00 pm</span><br style="color: rgb(29\, 33\, 41)\; font-family: Helvetica\, Arial\, sans-serif\; font-size: 14px\;" />\n<br style="color: rgb(29\, 33\, 41)\; font-family: Helvetica\, Arial\, sans-serif\; font-size: 14px\;" />\n<span style="color: rgb(29\, 33\, 41)\; font-family: Helvetica\, Arial\, sans-serif\; font-size: 14px\;">Tickets are $14 each. To purchase tickets\, call 309/222-2751 or email kberchtold@southsideofficeofconcern.org</span>
LOCATION:Dozer Park 730 SW Jefferson Ave. Peoria\, IL 61605
UID:e.526.5559
SEQUENCE:3
DTSTAMP:20260421T083553Z
URL:https://business.epcc.org/events/details/ssoc-night-with-the-peoria-chiefs-5559
END:VEVENT

END:VCALENDAR
