BEGIN:VCALENDAR
VERSION:2.0
PRODID:-//ChamberMaster//Event Calendar 2.0//EN
METHOD:PUBLISH
X-PUBLISHED-TTL:P3D
REFRESH-INTERVAL:P3D
CALSCALE:GREGORIAN
BEGIN:VEVENT
DTSTART:20180628T220000Z
DTEND:20180629T003000Z
X-MICROSOFT-CDO-ALLDAYEVENT:FALSE
SUMMARY:St. Jude Pasta & Pizza Party
DESCRIPTION:10th Annual Pasta & Pizza Party for St. Jude hosted by Barrack's Cater Inn. 100% of proceeds go to St. Jude Children's Research Hospital. Great food\, music\, silent auction\, and door prizes!
X-ALT-DESC;FMTTYPE=text/html:10th Annual Pasta &amp\; Pizza Party for St. Jude hosted by Barrack&#39\;s Cater Inn. 100% of proceeds go to St. Jude Children&#39\;s Research Hospital. Great food\, music\, silent auction\, and door prizes!
LOCATION:Barrack's Cater Inn 1224 W. Pioneer Parkway Peoria\, IL 61615
UID:e.526.5523
SEQUENCE:3
DTSTAMP:20260421T140815Z
URL:https://business.epcc.org/events/details/st-jude-pasta-pizza-party-5523
END:VEVENT

END:VCALENDAR
