BEGIN:VCALENDAR
VERSION:2.0
PRODID:-//ChamberMaster//Event Calendar 2.0//EN
METHOD:PUBLISH
X-PUBLISHED-TTL:P3D
REFRESH-INTERVAL:P3D
CALSCALE:GREGORIAN
BEGIN:VEVENT
DTSTART:20170402T010000Z
DTEND:20170402T050000Z
X-MICROSOFT-CDO-ALLDAYEVENT:FALSE
SUMMARY:St. Jude Runs Karaoke Night at McMahon's
DESCRIPTION:Help raise money for the children of St. Jude!\n\n\n\nKaraoke will be from 8pm-12am with fun games & prizes throughout!\n\n\n\nPlus\, proceeds from that day's sales will be donated to St. Jude.
X-ALT-DESC;FMTTYPE=text/html:Help raise money for the children of St. Jude!<br />\n<br />\nKaraoke will be from 8pm-12am with fun games &amp\; prizes throughout!<br />\n<br />\nPlus\, proceeds from that day&#39\;s sales will be donated to St. Jude.
LOCATION:McMahon's Pints & Plates 80 Washington Plaza\, Washington\, IL
UID:e.526.3810
SEQUENCE:3
DTSTAMP:20260422T113011Z
URL:https://business.epcc.org/events/details/st-jude-runs-karaoke-night-at-mcmahon-s-3810
END:VEVENT

END:VCALENDAR
