BEGIN:VCALENDAR
VERSION:2.0
PRODID:-//ChamberMaster//Event Calendar 2.0//EN
METHOD:PUBLISH
X-PUBLISHED-TTL:P3D
REFRESH-INTERVAL:P3D
CALSCALE:GREGORIAN
BEGIN:VEVENT
DTSTART:20190406T150000Z
DTEND:20190406T200000Z
X-MICROSOFT-CDO-ALLDAYEVENT:FALSE
SUMMARY:Star Wars Day at Fondulac District Library
DESCRIPTION:Fondulac District Library announces its annual Star Wars Day\, which celebrates reading and one of the most epic sagas of all time. The popular all-ages event will be held from 10 a.m. to 3 p.m. Saturday\, April 6\, at Fondulac District Library in East Peoria. \n\n \n\nFree activities and programs for all ages will run throughout the day and include Jedi training\, Star Wars crafts and games\, an Interstellar Bazaar\, prize drawings\, Beat Saber on Oculus Rift\, and much more. Special guests from the 501st Legion\, the Rebel Legion\, and the Mandalorian Mercs costume clubs will be in attendance and available for photographs. Additionally\, members of the Technophobia robotics team\, a local First Tech Challenge (FTC) team\, will participate in a presentation and demonstration of the real-life "droids" they design\, build\, and take to competition. The library also offers Star Wars-related books and movies on display and available for check out. The Friends of Fondulac District Library also hosts a fundraising sale with Star Wars-themed treats and gifts.
X-ALT-DESC;FMTTYPE=text/html:&nbsp\;Fondulac District Library announces its annual Star Wars Day\, which celebrates reading and one of the most epic sagas of all time. The popular all-ages event will be held from 10 a.m. to 3 p.m. Saturday\, April 6\, at Fondulac District Library in East Peoria.&nbsp\;<br />\n&nbsp\;<br />\nFree activities and programs for all ages will run throughout the day and include Jedi training\, Star Wars crafts and games\, an Interstellar Bazaar\, prize drawings\, Beat Saber on Oculus Rift\, and much more. Special guests from the 501st Legion\, the Rebel Legion\, and the Mandalorian Mercs costume clubs will be in attendance and available for photographs. Additionally\, members of the Technophobia robotics team\, a local First Tech Challenge (FTC) team\, will participate in a presentation and demonstration of the real-life &ldquo\;droids&rdquo\; they design\, build\, and take to competition. The library also offers Star Wars-related books and movies on display and available for check out. The Friends of Fondulac District Library also hosts a fundraising sale with Star Wars-themed treats and gifts.&nbsp\;
LOCATION:400 Richland Street East Peoria\, Illinois 61611
UID:e.526.6000
SEQUENCE:3
DTSTAMP:20260420T200302Z
URL:https://business.epcc.org/events/details/star-wars-day-at-fondulac-district-library-6000
END:VEVENT

END:VCALENDAR
