BEGIN:VCALENDAR
VERSION:2.0
PRODID:-//ChamberMaster//Event Calendar 2.0//EN
METHOD:PUBLISH
X-PUBLISHED-TTL:P3D
REFRESH-INTERVAL:P3D
CALSCALE:GREGORIAN
BEGIN:VEVENT
DTSTART:20170208T210000Z
DTEND:20170209T000000Z
X-MICROSOFT-CDO-ALLDAYEVENT:FALSE
SUMMARY:Starting A Business in Illinois
DESCRIPTION:An informative\, free of charge\, workshop for individuals wanting to start a small business. Learn about how to get your business name registered\, where to obtain a tax ID number\, which legal form to choose\, business plans\, taxes and much much more.
X-ALT-DESC;FMTTYPE=text/html:An informative\, free of charge\, workshop for individuals wanting to start a small business. Learn about how to get your business name registered\, where to obtain a tax ID number\, which legal form to choose\, business plans\, taxes and much much more.
LOCATION:Peoria NEXT Innovation Center 801 West Main Street Peoria IL
UID:e.526.3702
SEQUENCE:3
DTSTAMP:20260422T141215Z
URL:https://business.epcc.org/events/details/starting-a-business-in-illinois-02-08-2017-3702
END:VEVENT

END:VCALENDAR
