BEGIN:VCALENDAR
VERSION:2.0
PRODID:-//ChamberMaster//Event Calendar 2.0//EN
METHOD:PUBLISH
X-PUBLISHED-TTL:P3D
REFRESH-INTERVAL:P3D
CALSCALE:GREGORIAN
BEGIN:VEVENT
DTSTART;VALUE=DATE:20190213
DTEND;VALUE=DATE:20190214
TRANSP:TRANSPARENT
X-MICROSOFT-CDO-ALLDAYEVENT:TRUE
SUMMARY:Starting a Business in Illinois
DESCRIPTION:This free workshop is for individuals who are interested in starting their own business.  You will learn about: getting your business name registered\, where to obtain a tax ID number\, which legal form to choose\, business plans\, taxes\, financing options and much more!  These events are sponsored by the Illinois Small Business Development Center at Bradley University and Co-Sponsored by Morton Community Bank.
X-ALT-DESC;FMTTYPE=text/html:<span style="font-size:12.0pt">This free workshop is for individuals who are interested in starting their own business.&nbsp\; You will learn about: getting your business name registered\, where to obtain a tax ID number\, which legal form to choose\, business plans\, taxes\, financing options and much more!&nbsp\; These events are sponsored by the Illinois Small Business Development Center at Bradley University and Co-Sponsored by Morton Community Bank. </span>
LOCATION:PeoriaNEXT Innovation Center\, 1st FL 801 West Main Street\, Peoria 61606
UID:e.526.5920
SEQUENCE:3
DTSTAMP:20260420T215254Z
URL:https://business.epcc.org/events/details/starting-a-business-in-illinois-02-13-2019-5920
END:VEVENT

END:VCALENDAR
