BEGIN:VCALENDAR
VERSION:2.0
PRODID:-//ChamberMaster//Event Calendar 2.0//EN
METHOD:PUBLISH
X-PUBLISHED-TTL:P3D
REFRESH-INTERVAL:P3D
CALSCALE:GREGORIAN
BEGIN:VEVENT
DTSTART:20170321T200000Z
DTEND:20170321T230000Z
X-MICROSOFT-CDO-ALLDAYEVENT:FALSE
SUMMARY:Starting a Business in Illinois
DESCRIPTION:Sponsored by the Illinois Small Business Development Center at Bradley University and Co-Sponsored by Morton Community Bank\, this free workshop is open to the public. For individuals who want to learn about: getting your business name registered\, where to obtain a tax ID number\, which legal form to choose\, business plans\, taxes and much more!
X-ALT-DESC;FMTTYPE=text/html:<span style="font-family: calibri\,sans-serif\;"><span style="font-size: 12pt\;">Sponsored by the Illinois Small Business Development Center at Bradley University and Co-Sponsored by Morton Community Bank\, this free workshop is open to the public. For individuals who want to learn about: getting your business name registered\, where to obtain a tax ID number\, which legal form to choose\, business plans\, taxes and much more!</span></span>
LOCATION:Fondulac Bank\, 2nd FL 201 Clock Tower Drive\, East Peoria
UID:e.526.3745
SEQUENCE:3
DTSTAMP:20260422T113043Z
URL:https://business.epcc.org/events/details/starting-a-business-in-illinois-03-21-2017-3745
END:VEVENT

END:VCALENDAR
