BEGIN:VCALENDAR
VERSION:2.0
PRODID:-//ChamberMaster//Event Calendar 2.0//EN
METHOD:PUBLISH
X-PUBLISHED-TTL:P3D
REFRESH-INTERVAL:P3D
CALSCALE:GREGORIAN
BEGIN:VEVENT
DTSTART:20171114T210000Z
DTEND:20171114T230000Z
X-MICROSOFT-CDO-ALLDAYEVENT:FALSE
SUMMARY:Starting a Business in Illinois
DESCRIPTION:This free workshop is for individuals who are interested in starting their own business.  You will learn about: getting your business name registered\, where to obtain a tax ID number\, which legal form to choose\, business plans\, taxes and much more!  These events are sponsored by the Illinois Small Business Development Center at Bradley University and Co-Sponsored by Morton Community Bank.
X-ALT-DESC;FMTTYPE=text/html:<span style="font-family: calibri\,sans-serif\;"><span style="font-size: 12pt\;">This free workshop is for individuals who are interested in starting their own business.&nbsp\; You will learn about: getting your business name registered\, where to obtain a tax ID number\, which legal form to choose\, business plans\, taxes and much more!&nbsp\; These events are sponsored by the Illinois Small Business Development Center at Bradley University and Co-Sponsored by Morton Community Bank.&nbsp\;</span></span>
LOCATION:PeoriaNEXT Innovation Center\, 1st FL 801 West Main Street\, Peoria
UID:e.526.4354
SEQUENCE:3
DTSTAMP:20260422T000437Z
URL:https://business.epcc.org/events/details/starting-a-business-in-illinois-11-14-2017-4354
END:VEVENT

END:VCALENDAR
