BEGIN:VCALENDAR
VERSION:2.0
PRODID:-//ChamberMaster//Event Calendar 2.0//EN
METHOD:PUBLISH
X-PUBLISHED-TTL:P3D
REFRESH-INTERVAL:P3D
CALSCALE:GREGORIAN
BEGIN:VEVENT
DTSTART:20181127T210000Z
DTEND:20181127T230000Z
X-MICROSOFT-CDO-ALLDAYEVENT:FALSE
SUMMARY:Starting a Business in Illinois-11/27/18
DESCRIPTION:This free workshop is for individuals who are interested in starting their own business.  You will learn about: getting your business name registered\, where to obtain a tax ID number\, which legal form to choose\, business plans\, taxes\, financing options and much more!  These events are sponsored by the Illinois Small Business Development Center at Bradley University and Co-Sponsored by Morton Community Bank.
X-ALT-DESC;FMTTYPE=text/html:<span style="font-family:calibri\,sans-serif"><span style="font-size:12.0pt">This free workshop is for individuals who are interested in starting their own business.&nbsp\; You will learn about: getting your business name registered\, where to obtain a tax ID number\, which legal form to choose\, business plans\, taxes\, financing options and much more!&nbsp\; These events are sponsored by the Illinois Small Business Development Center at Bradley University and Co-Sponsored by Morton Community Bank.&nbsp\;</span></span>
LOCATION:Fondulac Bank\, 2nd FL 201 Clock Tower Drive\, East Peoria 61611
UID:e.526.5510
SEQUENCE:3
DTSTAMP:20260421T022945Z
URL:https://business.epcc.org/events/details/starting-a-business-in-illinois-11-27-18-5510
END:VEVENT

END:VCALENDAR
