BEGIN:VCALENDAR
VERSION:2.0
PRODID:-//ChamberMaster//Event Calendar 2.0//EN
METHOD:PUBLISH
X-PUBLISHED-TTL:P3D
REFRESH-INTERVAL:P3D
CALSCALE:GREGORIAN
BEGIN:VEVENT
DTSTART:20171130T210000Z
DTEND:20171130T230000Z
X-MICROSOFT-CDO-ALLDAYEVENT:FALSE
SUMMARY:Starting a Business in Illinois
DESCRIPTION:
X-ALT-DESC;FMTTYPE=text/html:
LOCATION:
UID:e.526.4355
SEQUENCE:3
DTSTAMP:20260422T012942Z
URL:https://business.epcc.org/events/details/starting-a-business-in-illinois-11-30-2017-4355
END:VEVENT

END:VCALENDAR
