BEGIN:VCALENDAR
VERSION:2.0
PRODID:-//ChamberMaster//Event Calendar 2.0//EN
METHOD:PUBLISH
X-PUBLISHED-TTL:P3D
REFRESH-INTERVAL:P3D
CALSCALE:GREGORIAN
BEGIN:VEVENT
DTSTART:20160323T200000Z
DTEND:20160323T223000Z
X-MICROSOFT-CDO-ALLDAYEVENT:FALSE
SUMMARY:Starting a Business in Illinois (3/23/16)
DESCRIPTION:Free to the public. For individuals who want to learn about: getting your business name registered\, where to obtain a tax ID number\, which legal form to choose\, business plans\, taxes and much more!
X-ALT-DESC;FMTTYPE=text/html:<span style="font-family: calibri\,sans-serif\;"><span style="font-size: 12pt\;">Free to the public. For individuals who want to learn about: getting your business name registered\, where to obtain a tax ID number\, which legal form to choose\, business plans\, taxes and much more!</span></span>
LOCATION:Fondulac Bank 201 Clock Tower Drive\, East Peoria
UID:e.526.2934
SEQUENCE:3
DTSTAMP:20260424T162709Z
URL:https://business.epcc.org/events/details/starting-a-business-in-illinois-3-23-16-03-23-2016-2934
END:VEVENT

END:VCALENDAR
