BEGIN:VCALENDAR
VERSION:2.0
PRODID:-//ChamberMaster//Event Calendar 2.0//EN
METHOD:PUBLISH
X-PUBLISHED-TTL:P3D
REFRESH-INTERVAL:P3D
CALSCALE:GREGORIAN
BEGIN:VEVENT
DTSTART:20160412T200000Z
DTEND:20160412T223000Z
X-MICROSOFT-CDO-ALLDAYEVENT:FALSE
SUMMARY:Starting a Business in Illinois (4/12/16)
DESCRIPTION:Free to the public. For individuals who want to learn about: getting your business name registered\, where to obtain a tax ID number\, which legal form to choose\, business plans\, taxes and much more!
X-ALT-DESC;FMTTYPE=text/html:<span style="font-family: calibri\,sans-serif\;"><span style="font-size: 12pt\;">Free to the public. For individuals who want to learn about: getting your business name registered\, where to obtain a tax ID number\, which legal form to choose\, business plans\, taxes and much more!</span></span>
LOCATION:PeoriaNEXT Innovation Center 801 West Main Street\, Peoria
UID:e.526.2935
SEQUENCE:3
DTSTAMP:20260424T135817Z
URL:https://business.epcc.org/events/details/starting-a-business-in-illinois-4-12-16-04-12-2016-2935
END:VEVENT

END:VCALENDAR
