BEGIN:VCALENDAR
VERSION:2.0
PRODID:-//ChamberMaster//Event Calendar 2.0//EN
METHOD:PUBLISH
X-PUBLISHED-TTL:P3D
REFRESH-INTERVAL:P3D
CALSCALE:GREGORIAN
BEGIN:VEVENT
DTSTART:20190117T210000Z
DTEND:20190117T230000Z
X-MICROSOFT-CDO-ALLDAYEVENT:FALSE
SUMMARY:Starting a Business in Illinois
DESCRIPTION:The Illinois Small Business Development Center (SBDC) at Bradley University will be offering a workshop\, Starting a Business in Illinois. This workshop is co-sponsored by the Morton Community Bank and is open to the public\; however\, *registration is required *to accommodate seating.
X-ALT-DESC;FMTTYPE=text/html:<span style="font-family:calibri\,sans-serif\;"><span style="font-size:11.0pt\;">The Illinois Small Business Development Center (SBDC) at Bradley University will be offering a workshop\, Starting a Business in Illinois.&nbsp\;This workshop is co-sponsored by the Morton Community Bank and&nbsp\;is open to the public\; however\, *registration is required *to accommodate seating.</span></span>
LOCATION:Peoria NEXT Innovation Center 801 West Main Street\, Peoria
UID:e.526.5913
SEQUENCE:3
DTSTAMP:20260420T230753Z
URL:https://business.epcc.org/events/details/starting-a-business-in-illinois-5913
END:VEVENT

END:VCALENDAR
