BEGIN:VCALENDAR
VERSION:2.0
PRODID:-//ChamberMaster//Event Calendar 2.0//EN
METHOD:PUBLISH
X-PUBLISHED-TTL:P3D
REFRESH-INTERVAL:P3D
CALSCALE:GREGORIAN
BEGIN:VEVENT
DTSTART:20151216T210000Z
DTEND:20151216T233000Z
X-MICROSOFT-CDO-ALLDAYEVENT:FALSE
SUMMARY:Starting a Business in Illinois Workshop
DESCRIPTION:Starting a Business in Illinois Workshop This is intended only for those who are NOT yet in business These free informal workshops are offered by Illinois Small Business Development Center at Bradley University. Topics covered will include the following: - How to get the business name registered - Where to get a tax ID number - Licenses & permits - What legal form to choose (proprietorship\, partnership\, corporation) - Sales taxes - Estimated quarterly income tax - Employee taxes - Financing your business - Preparing a business plan - Federal\, State\, City and County Requirements - Legal Structure To register for a seminar listed above\, call (309) 677-2992. The Starting a Business in Illinois Workshop is held at Fondulac Bank\, 201 Clock Tower Drive\, East Peoria\, IL.
X-ALT-DESC;FMTTYPE=text/html:Starting a Business in Illinois Workshop This is intended only for those who are NOT yet in business These free informal workshops are offered by Illinois Small Business Development Center at Bradley University. Topics covered will include the following: - How to get the business name registered - Where to get a tax ID number - Licenses &amp\; permits - What legal form to choose (proprietorship\, partnership\, corporation) - Sales taxes - Estimated quarterly income tax - Employee taxes - Financing your business - Preparing a business plan - Federal\, State\, City and County Requirements - Legal Structure To register for a seminar listed above\, call (309) 677-2992. The Starting a Business in Illinois Workshop is held at Fondulac Bank\, 201 Clock Tower Drive\, East Peoria\, IL.
LOCATION:Fondulac Bank 201 Clock Tower Drive East Peoria\, IL.
UID:e.526.2885
SEQUENCE:3
DTSTAMP:20260424T192053Z
URL:https://business.epcc.org/events/details/starting-a-business-in-illinois-workshop-12-16-2015-2885
END:VEVENT

END:VCALENDAR
