BEGIN:VCALENDAR
VERSION:2.0
PRODID:-//ChamberMaster//Event Calendar 2.0//EN
METHOD:PUBLISH
X-PUBLISHED-TTL:P3D
REFRESH-INTERVAL:P3D
CALSCALE:GREGORIAN
BEGIN:VEVENT
DTSTART:20160823T200000Z
DTEND:20160823T223000Z
X-MICROSOFT-CDO-ALLDAYEVENT:FALSE
SUMMARY:Starting a Small Business in Illinois
DESCRIPTION:Free to the public. For individuals who want to learn about: getting your business name registered\, where to obtain a tax ID number\, which legal form to choose\, business plans\, taxes and much more!
X-ALT-DESC;FMTTYPE=text/html:Free to the public. For individuals who want to learn about: getting your business name registered\, where to obtain a tax ID number\, which legal form to choose\, business plans\, taxes and much more!
LOCATION:Fondulac Bank 201 Clock Tower Drive East Peoria
UID:e.526.3068
SEQUENCE:3
DTSTAMP:20260422T213005Z
URL:https://business.epcc.org/events/details/starting-a-small-business-in-illinois-08-23-2016-3068
END:VEVENT

END:VCALENDAR
