BEGIN:VCALENDAR
VERSION:2.0
PRODID:-//ChamberMaster//Event Calendar 2.0//EN
METHOD:PUBLISH
X-PUBLISHED-TTL:P3D
REFRESH-INTERVAL:P3D
CALSCALE:GREGORIAN
BEGIN:VEVENT
DTSTART:20161006T200000Z
DTEND:20161006T223000Z
X-MICROSOFT-CDO-ALLDAYEVENT:FALSE
SUMMARY:Starting a Small Business in Illinois (10/6/16)
DESCRIPTION:Free to the public. For individuals who want to learn about: getting your business name registered\, where to obtain a tax ID number\, which legal form to choose\, business plans\, taxes and much more!
X-ALT-DESC;FMTTYPE=text/html:Free to the public. For individuals who want to learn about: getting your business name registered\, where to obtain a tax ID number\, which legal form to choose\, business plans\, taxes and much more!
LOCATION:PeoriaNEXT Innovation Center 801 West Main Street Peoria
UID:e.526.3071
SEQUENCE:3
DTSTAMP:20260422T183711Z
URL:https://business.epcc.org/events/details/starting-a-small-business-in-illinois-10-6-16-3071
END:VEVENT

END:VCALENDAR
