BEGIN:VCALENDAR
VERSION:2.0
PRODID:-//ChamberMaster//Event Calendar 2.0//EN
METHOD:PUBLISH
X-PUBLISHED-TTL:P3D
REFRESH-INTERVAL:P3D
CALSCALE:GREGORIAN
BEGIN:VEVENT
DTSTART:20230411T150000Z
DTEND:20230411T170000Z
X-MICROSOFT-CDO-ALLDAYEVENT:FALSE
SUMMARY:State of Illinois Social Work Job Fair & Hiring Event
DESCRIPTION:
X-ALT-DESC;FMTTYPE=text/html:
LOCATION:
UID:e.526.7119
SEQUENCE:3
DTSTAMP:20260422T221843Z
URL:https://business.epcc.org/events/details/state-of-illinois-social-work-job-fair-hiring-event-7119
END:VEVENT

END:VCALENDAR
