BEGIN:VCALENDAR
VERSION:2.0
PRODID:-//ChamberMaster//Event Calendar 2.0//EN
METHOD:PUBLISH
X-PUBLISHED-TTL:P3D
REFRESH-INTERVAL:P3D
CALSCALE:GREGORIAN
BEGIN:VEVENT
DTSTART:20170409T020000Z
DTEND:20170409T045500Z
X-MICROSOFT-CDO-ALLDAYEVENT:FALSE
SUMMARY:Stech's "Holler Ana Swaller" Karaoke at McMahon's
DESCRIPTION:Karaoke fun with Mike Stechman at McMahon's from 9pm-1am
X-ALT-DESC;FMTTYPE=text/html:Karaoke fun with Mike Stechman at McMahon's from 9pm-1am
LOCATION:McMahon's Pints & Plates 80 Washington Plaza\, Washington\, IL
UID:e.526.4306
SEQUENCE:3
DTSTAMP:20260422T100848Z
URL:https://business.epcc.org/events/details/stech-s-holler-ana-swaller-karaoke-at-mcmahon-s-04-08-2017-4306
END:VEVENT

END:VCALENDAR
