BEGIN:VCALENDAR
VERSION:2.0
PRODID:-//ChamberMaster//Event Calendar 2.0//EN
METHOD:PUBLISH
X-PUBLISHED-TTL:P3D
REFRESH-INTERVAL:P3D
CALSCALE:GREGORIAN
BEGIN:VEVENT
DTSTART:20170514T013000Z
DTEND:20170514T050000Z
X-MICROSOFT-CDO-ALLDAYEVENT:FALSE
SUMMARY:Stech's "Holler Ana Swaller" Karaoke at McMahon's
DESCRIPTION:Join us for some karaoke fun with Mike Stechman!
X-ALT-DESC;FMTTYPE=text/html:Join us for some karaoke fun with Mike Stechman!
LOCATION:McMahon's Pints & Plates 80 Washington Plaza\, Washington\, IL 61571
UID:e.526.4299
SEQUENCE:3
DTSTAMP:20260422T100847Z
URL:https://business.epcc.org/events/details/stech-s-holler-ana-swaller-karaoke-at-mcmahon-s-05-13-2017-4299
END:VEVENT

END:VCALENDAR
