BEGIN:VCALENDAR
VERSION:2.0
PRODID:-//ChamberMaster//Event Calendar 2.0//EN
METHOD:PUBLISH
X-PUBLISHED-TTL:P3D
REFRESH-INTERVAL:P3D
CALSCALE:GREGORIAN
BEGIN:VEVENT
DTSTART:20150527T150000Z
DTEND:20150527T170000Z
X-MICROSOFT-CDO-ALLDAYEVENT:FALSE
SUMMARY:Substance Abuse Group
DESCRIPTION:This workshop is for veterans who are struggling with alcohol or substance abuse. Learn coping skills and share your story with others dealing with the same thing.
X-ALT-DESC;FMTTYPE=text/html:This workshop is for veterans who are struggling with alcohol or substance abuse. Learn coping skills and share your story with others dealing with the same thing.
LOCATION:Goodwill Commons 2319 E. War Memorial Drive Peoria\, IL.
UID:e.526.1655
SEQUENCE:3
DTSTAMP:20260425T043400Z
URL:https://business.epcc.org/events/details/substance-abuse-group-05-27-2015-1655
END:VEVENT

END:VCALENDAR
