BEGIN:VCALENDAR
VERSION:2.0
PRODID:-//ChamberMaster//Event Calendar 2.0//EN
METHOD:PUBLISH
X-PUBLISHED-TTL:P3D
REFRESH-INTERVAL:P3D
CALSCALE:GREGORIAN
BEGIN:VEVENT
DTSTART:20160330T150000Z
DTEND:20160330T160000Z
X-MICROSOFT-CDO-ALLDAYEVENT:FALSE
SUMMARY:Substance Abuse Group for Veterans
DESCRIPTION:This workshop is for veterans who are struggling with alcohol or substance abuse. Learn coping skills and share your story with others dealing with similar concerns.
X-ALT-DESC;FMTTYPE=text/html:This workshop is for veterans who are struggling with alcohol or substance abuse. Learn coping skills and share your story with others dealing with similar concerns.
LOCATION:Goodwill Commons at 2319 E. War Memorial Dr.\, Peoria\, IL 61614
UID:e.526.3036
SEQUENCE:3
DTSTAMP:20260424T162451Z
URL:https://business.epcc.org/events/details/substance-abuse-group-for-veterans-03-30-2016-3036
END:VEVENT

END:VCALENDAR
