BEGIN:VCALENDAR
VERSION:2.0
PRODID:-//ChamberMaster//Event Calendar 2.0//EN
METHOD:PUBLISH
X-PUBLISHED-TTL:P3D
REFRESH-INTERVAL:P3D
CALSCALE:GREGORIAN
BEGIN:VEVENT
DTSTART:20190418T194500Z
DTEND:20190418T220000Z
X-MICROSOFT-CDO-ALLDAYEVENT:FALSE
SUMMARY:Take Advantage of Business Enterprise Program (BEP) and Veteran Business Program (VBP)
DESCRIPTION:Attendees will learn the program's eligibility requirements\, the application process and how to gain access to the State of Illinois' procurement process.
X-ALT-DESC;FMTTYPE=text/html:<span style="background-color:transparent\; color:rgb(34\, 34\, 34)\; font-family:arial\,helvetica\,sans-serif\; font-size:small">Attendees will l</span>earn the program&#39\;s eligibility&nbsp\;requirements\, the application process and how to g<span style="background-color:transparent\; color:rgb(34\, 34\, 34)\; font-family:calibri\,sans-serif\; font-size:11pt">ain access to the State of Illinois&rsquo\; procurement process</span>.&nbsp\;
LOCATION:Peoria NEXT Innovation Center\, 801 West Main Street\, Peoria
UID:e.526.5996
SEQUENCE:3
DTSTAMP:20260420T200434Z
URL:https://business.epcc.org/events/details/take-advantage-of-business-enterprise-program-bep-and-veteran-business-program-vbp-5996
END:VEVENT

END:VCALENDAR
