BEGIN:VCALENDAR
VERSION:2.0
PRODID:-//ChamberMaster//Event Calendar 2.0//EN
METHOD:PUBLISH
X-PUBLISHED-TTL:P3D
REFRESH-INTERVAL:P3D
CALSCALE:GREGORIAN
BEGIN:VEVENT
DTSTART:20161025T133000Z
DTEND:20161025T163000Z
X-MICROSOFT-CDO-ALLDAYEVENT:FALSE
SUMMARY:Take Charge of Your Marketing Seminar
DESCRIPTION:Take Charge of Your Marketing Free Seminar. Winning the biggest opportunites in the smallest moments.
X-ALT-DESC;FMTTYPE=text/html:Take Charge of Your Marketing Free Seminar. Winning the biggest opportunites in the smallest moments.
LOCATION:Marriott Pere Marquette 501 Main Street\, Peoria\, IL
UID:e.526.3272
SEQUENCE:3
DTSTAMP:20260422T200748Z
URL:https://business.epcc.org/events/details/take-charge-of-your-marketing-seminar-3272
END:VEVENT

END:VCALENDAR
