BEGIN:VCALENDAR
VERSION:2.0
PRODID:-//ChamberMaster//Event Calendar 2.0//EN
METHOD:PUBLISH
X-PUBLISHED-TTL:P3D
REFRESH-INTERVAL:P3D
CALSCALE:GREGORIAN
BEGIN:VEVENT
DTSTART:20181007T000000Z
DTEND:20181007T023000Z
X-MICROSOFT-CDO-ALLDAYEVENT:FALSE
SUMMARY:Tale of the Anklets to benefit the Center for Prevention of Abuse
DESCRIPTION:The Caterpillar Asian Indian Community (CAIC) and Mythili Dance Academy (MDA) are proud to present "Tale of The Anklets"   a mega dance musical to benefit the Center for Prevention of Abuse (CFPA) on Saturday\, October 6\, 2018 at 7:00 p.m. at Washington Five Points in Washington\, IL. This captivating show will feature more than 120 local and national dancers in a variety of Indian dance styles\, including classical\, folk\, Bollywood\, and contemporary\, and fusion dance styles with Chinese\, Middle Eastern\, and ballet dances. The program features dancers come from Mythili Dance Academy\, Cornerstone Ballet\, Springfield Chinese Association\, Peoria Chinese Association\, and Zakira's Mediterranean Dance Academy\; Dallas.
X-ALT-DESC;FMTTYPE=text/html:<span style="font-family:calibri\,sans-serif"><span style="font-size:11.0pt">The Caterpillar Asian Indian Community (CAIC) and Mythili Dance Academy (MDA) are proud to present &ldquo\;Tale of The Anklets&rdquo\; &ndash\; a mega dance musical to benefit the <a href="http://www.centerforpreventionofabuse.org/">Center for Prevention of Abuse</a></span> (CFPA) on Saturday\, October 6\, 2018 at 7:00 p.m. at Washington Five Points in Washington\, IL.&nbsp\;</span>This captivating show will feature more than 120 local and national dancers in a variety of Indian dance styles\, including classical\, folk\, Bollywood\, and contemporary\, and fusion dance styles with Chinese\, Middle Eastern\, and ballet dances. The program features dancers come from Mythili Dance Academy\, Cornerstone Ballet\, Springfield Chinese Association\, Peoria Chinese Association\, and Zakira&rsquo\;s Mediterranean Dance Academy\; Dallas.
LOCATION:Five Points Washington 360 N Wilmor Rd\, Washington\, IL 61571
UID:e.526.5601
SEQUENCE:3
DTSTAMP:20260421T040754Z
URL:https://business.epcc.org/events/details/tale-of-the-anklets-to-benefit-the-center-for-prevention-of-abuse-5601
END:VEVENT

END:VCALENDAR
