BEGIN:VCALENDAR
VERSION:2.0
PRODID:-//ChamberMaster//Event Calendar 2.0//EN
METHOD:PUBLISH
X-PUBLISHED-TTL:P3D
REFRESH-INTERVAL:P3D
CALSCALE:GREGORIAN
BEGIN:VEVENT
DTSTART:20151213T220000Z
DTEND:20151214T000000Z
X-MICROSOFT-CDO-ALLDAYEVENT:FALSE
SUMMARY:Tapping Celebration
DESCRIPTION:Take some time away from the holiday hustle and bustle! Join us as we celebrate our newest seasonal brew\, Mr. Corporate Schwarzbier. Don't miss out on free samples\, pairings\, and giveaways. Be the FIRST to try.
X-ALT-DESC;FMTTYPE=text/html:Take some time away from the holiday hustle and bustle! Join us as we celebrate our newest seasonal brew\, Mr. Corporate Schwarzbier. Don&#39\;t miss out on free samples\, pairings\, and giveaways. Be the FIRST to try.
LOCATION:Granite City Food & Brewery
UID:e.526.2879
SEQUENCE:3
DTSTAMP:20260424T191715Z
URL:https://business.epcc.org/events/details/tapping-celebration-12-13-2015-2879
END:VEVENT

END:VCALENDAR
